{"text_format":"3","workbook":"xlsx","n_sheets":2,"sheets":["등록자료","DB용 시트(삭제 및 임의변경 금지)"],"not_rendered":{"images":4,"defined_names":17},"read":"whole","date_system":"1900"}

{"sheet":"등록자료","index":0,"n_rows":197,"n_cols":40,"rows_kept":197,"merged":[[1,1,1,21],[16,1,16,21],[17,1,17,21],[18,1,19,1],[18,2,19,17],[18,18,18,19],[18,20,18,21],[18,24,18,31],[19,18,19,19],[19,20,19,21],[19,24,19,31],[20,2,20,21],[21,1,24,1],[21,2,21,5],[21,6,21,21],[22,2,22,5],[22,6,22,17],[22,18,22,19],[22,20,22,21],[22,24,22,31],[23,2,23,5],[23,6,23,17],[23,18,23,19],[23,20,23,21],[24,2,24,5],[24,6,24,17],[24,18,24,19],[24,20,24,21],[25,1,27,1],[25,2,25,5],[25,6,25,17],[25,18,25,19],[25,20,25,21],[26,2,26,5],[26,6,26,17],[26,18,26,19],[26,20,26,21],[27,2,27,5],[27,6,27,21],[28,1,29,1],[28,2,28,5],[28,6,28,15],[28,16,28,17],[28,18,28,19],[28,20,28,21],[28,24,28,31],[29,6,29,15],[29,16,29,17],[29,18,29,19],[29,20,29,21],[29,24,30,31],[30,1,31,1],[30,6,30,15],[30,16,30,17],[30,18,30,19],[30,20,30,21],[31,6,31,15],[31,16,31,17],[31,18,31,19],[31,20,31,21],[32,1,33,1],[32,2,32,5],[32,6,32,19],[33,6,33,19],[34,1,35,1],[34,6,34,19],[35,6,35,19],[36,1,39,1],[36,2,36,15],[36,16,36,18],[36,20,36,21],[36,24,37,31],[37,16,37,18],[37,20,37,21],[37,22,37,23],[38,16,38,18],[38,20,38,21],[38,22,38,23],[38,24,38,31],[38,34,39,41],[39,16,39,18],[39,20,39,21],[39,24,40,31],[40,1,46,1],[40,16,40,18],[40,20,40,21],[41,16,41,18],[41,20,41,21],[41,24,42,31],[42,16,42,18],[42,20,42,21],[43,16,43,18],[43,20,43,21],[43,24,43,31],[44,16,44,18],[44,20,44,21],[44,24,44,31],[45,16,45,18],[45,20,45,21],[46,16,46,18],[46,20,46,21],[47,1,48,1],[47,2,47,18],[47,19,47,21],[48,2,48,10],[48,11,48,21],[48,22,48,30],[51,2,51,10],[51,11,51,13],[51,14,51,15],[51,17,51,18],[53,1,53,21],[55,1,55,21],[56,1,56,21],[59,24,59,31],[60,24,60,30],[61,24,62,31]]}
[]
[null,"입력 방법<필수 확인>"]
[]
[{"$nulls":20},"1. 선택입력(파란색)은 반드시 오른쪽 하단의 화살표를 클릭하여 선택하시기 바랍니다."]
[]
[{"$nulls":20},"   1. 입력셀 클릭"]
[{"$nulls":20},"   2. 셀 오른편에 화살표 클릭"]
[{"$nulls":20},"   3. 해당 사항 클릭하면 입력됨"]
[]
[{"$nulls":20},"  * 수기로 입력 시 애러가 발생합니다."]
[{"$nulls":20},"  * 선택창이 나타나지 않는 경우 엑셀프로그램의 오류이므로 다른 컴퓨터를 이용해보시기 바랍니다."]
[]
[{"$nulls":20},"2. 입력사항(흰색, 파란색) 외에는 수정이 입력이 불가능한 파일입니다."]
[]
[]
[]
[null,"서울시 민간투자사업 전문가 DB 등록정보 입력창"]
[]
[null," 1. 전문분야","전문분야 입력<우측화살표 클릭>",{"$nulls":15},"세부전공분야1",null,"전문분야 입력<우측화살표 클릭>",{"$nulls":3},"작성 요령"]
[{"$nulls":18},"세부전공분야2",null,"전문분야 입력<우측화살표 클릭>",null,"----------------","------>","1번: 세부 전공분야는 해당 전문분야 내에서 최대 2개까지 선택해주세요.(오류 시 미등록됨)"]
[null," 2. 자격요건","<자격요건 선택> -> 오른쪽 화살표 클릭",{"$nulls":19},"----------------","------>","2번: 해당 자격요건을 선택하여 주세요"]
[null," 3. 인적사항","성명",{"$nulls":3},"작성 예: 홍길동"]
[null,null,"휴대폰",{"$nulls":3},"작성 예: 000-0000-0000",{"$nulls":11},"생년월일",null,"작성 예: 1970-01-01",null,"----------------","------>","3~4번 인적사항, 직장현황은 서식에 의거 빠짐없이 기재하여 주십시오."]
[null,null,"이메일-1",{"$nulls":3},"작성 예: hello@com.co.kr",{"$nulls":11},"이메일-2",null,"작성 예: hello@si.re.kr",null,"--> 송수신 오류 대비"]
[null,null,"자택주소",{"$nulls":3},"작성 예: 서울시 서초구 논현동 000-00",{"$nulls":11},"자택전화"]
[null," 4. 직장현황","직장명",{"$nulls":3},"작성 예: 한국대학교",{"$nulls":11},"부서(학과)",null,"작성 예: 자원공학과"]
[null,null,"담당업무",{"$nulls":3},"작성 예: 강의, 연구 등",{"$nulls":11},"직급(직위)",null,"작성 예: 정교수"]
[null,null,"직장주소"]
[null," 5. 학력사항","학위취득년월",{"$nulls":3},"학교명",{"$nulls":9},"학위구분",null,"졸업구분",null,"전 공 분 야",null,"----------------","------>","5번. 학력사항은 최종학력부터 기재하세요. "]
[null,null,"입력",{"$f":"IF(C30<>0,\"년\",\"\")","v":"년"},0,{"$f":"IF(E30<>0,\"월\",\"\")","v":""},{"$nulls":10},"<입력>",null,"<입력>",{"$nulls":5},"대학이상의 학력만 기재하시고, 학위구분은 학사/석사/박사로 구분하고 졸업은 졸업/수료로 구분하여 기재하여 주십시오. "]
[null,"    (최종학력부터 최대 3개 작성)",null,{"$f":"IF(C31<>0,\"년\",\"\")","v":""},null,{"$f":"IF(E31<>0,\"월\",\"\")","v":""}]
[{"$nulls":3},{"$f":"IF(C32<>0,\"년\",\"\")","v":""},null,{"$f":"IF(E32<>0,\"월\",\"\")","v":""},{"$nulls":18},"다만, 고졸자로서 평가위원 등록자격이 되시는 분은 출신고교를 기재하여 주십시오."]
[null," 6. 자 격 증","취득년월",{"$nulls":3},"자 격 증 명",{"$nulls":13},"자격증번호","인가·관리기관"]
[null,null,"입력",{"$f":"IF(C34<>0,\"년\",\"\")","v":"년"},0,{"$f":"IF(E34<>0,\"월\",\"\")","v":""},{"$nulls":16},"----------------","------>","6. 자격증은 해당자에 한하여 기재하되 해당되시는 분은 반드시 기재하여 주십시오."]
[null,"    (상위등급부터 최대 3개 작성)",null,{"$f":"IF(C35<>0,\"년\",\"\")","v":""},null,{"$f":"IF(E35<>0,\"월\",\"\")","v":""}]
[{"$nulls":3},{"$f":"IF(C36<>0,\"년\",\"\")","v":""},null,{"$f":"IF(E36<>0,\"월\",\"\")","v":""}]
[null," 7. 경력사항 ","근무기간",{"$nulls":13},"근무처",null,null,"직급(직위)","주요업무",null,"----------------","------>","7. 경력사항은 전문분야와 관련 있는 업무에 종사한 기간, 근무처, 직위, 주요업무를 \n   빠짐없이 기재하여 주십시오."]
[null,null,"입력",{"$f":"IF(C38<>0,\"년\",\"\")","v":"년"},0,{"$f":"IF(E38<>0,\"월\",\"\")","v":""},{"$f":"IF(C38<>0,\"~\",\"\")","v":"~"},{"$f":"YEAR(L52)","v":2023},{"$f":"IF(H38<>\"현재\",IF(H38<>0,\"년\",\"\"),\"\")","v":"년"},{"$f":"MONTH(Q52)","v":10},{"$f":"IF(J38<>0,\"월\",\"\")","v":"월"},null,{"$f":"IF(J38<>0,\"(\",\"\")","v":"("},{"$f":"IF(J38<>0,(H38-C38)+(J38-E38+1)/12,\"\")","v":{"$error":"#VALUE!"}},{"$f":"IF(J38<>0,\"년\",\"\")","v":"년"},{"$f":"IF(J38<>0,\")\",\"\")","v":")"},{"$f":"G26","v":"작성 예: 한국대학교"},null,null,{"$f":"U27","v":"작성 예: 정교수"},{"$f":"G27","v":"작성 예: 강의, 연구 등"},null,"--> 근무시작 외 자동입력"]
[{"$nulls":3},{"$f":"IF(C39<>0,\"년\",\"\")","v":""},null,{"$f":"IF(E39<>0,\"월\",\"\")","v":""},{"$f":"IF(C39<>0,\"~\",\"\")","v":""},null,{"$f":"IF(H39<>\"현재\",IF(H39<>0,\"년\",\"\"),\"\")","v":""},null,{"$f":"IF(J39<>0,\"월\",\"\")","v":""},null,{"$f":"IF(J39<>0,\"(\",\"\")","v":""},{"$f":"IF(J39<>0,(H39-C39)+(J39-E39+1)/12,\"\")","v":""},{"$f":"IF(J39<>0,\"년\",\"\")","v":""},{"$f":"IF(J39<>0,\")\",\"\")","v":""},{"$nulls":6},"--> 이전 경력 직접입력",null,"   * 1번째 경력사항은 현직으로 자동입력되니 근무기간만 입력해주세요."]
[{"$nulls":3},"",null,"","",null,"",null,"",null,"","","","",{"$nulls":8},"   * 경력사항에 관한 기입란이 부족할 경우 1줄에 다수 경력 기입하여 빠짐없이 재직경력을\n     기입해주시기 바랍니다. 특히, 관련 재직경력은 꼭 기입해주시기 바랍니다."]
[null,"    (최근주요 재직경력부터 작성)\n\n    ※ 단, 자문 및 위원회 등\n       경력은 작성하지 않을 것",null,"",null,"","",null,"",null,"",null,"","","",""]
[{"$nulls":3},"",null,"","",null,"",null,"",null,"","","",""]
[{"$nulls":3},"",null,"","",null,"",null,"",null,"","","",""]
[{"$nulls":3},"",null,"","",null,"",null,"",null,"","","",""]
[{"$nulls":3},"",null,"","",null,"",null,"",null,"","","",""]
[{"$nulls":3},"",null,"","",null,"",null,"",null,"","","",""]
[{"$nulls":3},"",null,"","",null,"",null,"",null,"","","",""]
[null," 8. 수행경험","민투법 민간투자사업 관련 업무 수행경험 유무",{"$nulls":16},"<입력>"]
[null,null,"대표수행사업 및 역할\n(수행경험이 있는 경우 서술)",{"$nulls":8},"작성 예: 000 민간투자사업 평가, 000 민간투자사업 수요 추정",{"$nulls":10},"-> 민자사업 관련 경력 위주로 작성"]
[]
[]
[null,null,"작성년월",{"$nulls":8},{"$f":"TODAY()","v":"2023-10-16"},null,null,"년",null,{"$f":"TODAY()","v":"2023-10-16"},"월"]
[]
[null,"증빙서류 안내"]
[]
[null,"1. 2번의 자격요건과 현직 재직사항을 증빙할 수 있는 서류를 제출해주시기 바랍니다."]
[null,"2. 증빙서류 예시 : 재직증명서, 자격증 사본, 학위기 사본, 경력증명서 등"]
{"$rows_empty":28}
[null,null,"년",{"$nulls":22},"전문분야",null,"세부전공"]
[null,null,1931,{"$nulls":4},"월",{"$nulls":11},"학위구분","졸업구분",{"$nulls":4},"토목","전문분야 입력<우측화살표 클릭>","토목","건축","기계","전기","정보·통신","소방·안전","도시·교통","환경·조경","운영·유지관리","회계·금융","감정평가","법률","기타분야"]
[null,null,1932,{"$nulls":4},1,{"$nulls":11},"박사","졸업",{"$nulls":4},"건축","세부전문분야 입력1","토질및기초","건축계획","기계","전기","정보관리","소방","도시계획","대기관리","도로운영","회계","감정평가","법률","경제·경영"]
[null,null,1933,{"$nulls":4},2,{"$nulls":11},"석사","수료",{"$nulls":4},"기계","세부전문분야 입력2(미입력 가능)","토목구조","건축설계","건축기계설비","건축전기설비","컴퓨터시스템응용","건설안전","교통수요","수질관리","도로유지관리","금융/재무","-","-","문화·예술"]
[null,null,1934,{"$nulls":4},3,{"$nulls":11},"학사",{"$nulls":5},"전기","-","토목시공","건축시공","건설기계","발송배전","정보통신","기계안전","교통시스템","소음진동","철도운영","-",null,null,"체육"]
[null,null,1935,{"$nulls":4},4,{"$nulls":11},"기타","<입력>",{"$nulls":4},"정보·통신",null,"측량","건축구조","공조냉동기계","전기응용","철도통신","전기안전","교통안전","토양환경","철도차량",{"$nulls":3},"관광·마이스(MICE)"]
[null,null,1936,{"$nulls":4},5,{"$nulls":11},"<입력>",{"$nulls":5},"소방·안전",null,"노반","건축법규","산업기계설비","전기철도","-","-","-","자연환경관리","철도유지관리",{"$nulls":3},"부동산"]
[null,null,1937,{"$nulls":4},6,{"$nulls":17},"도시·교통",null,"궤도","-","-","철도신호",{"$nulls":3},"폐기물처리","항만유지관리",{"$nulls":3},"복지"]
[null,null,1938,{"$nulls":4},7,{"$nulls":11},"있음",{"$nulls":5},"환경·조경",null,"도로및공항",null,null,"-",{"$nulls":3},"조경","건축유지관리",{"$nulls":3},"-"]
[null,null,1939,{"$nulls":4},8,{"$nulls":11},"없음",{"$nulls":5},"운영·유지관리",null,"철도",{"$nulls":6},"-","기타유지관리"]
[null,null,1940,{"$nulls":4},9,{"$nulls":11},"<입력>",{"$nulls":5},"회계·금융",null,"항만",{"$nulls":7},"-"]
[null,null,1941,{"$nulls":4},10,{"$nulls":17},"감정평가",null,"상하수도"]
[null,null,1942,{"$nulls":4},11,{"$nulls":17},"법률",null,"수자원개발 "]
[null,null,1943,{"$nulls":4},12,{"$nulls":17},"기타분야",null,"-"]
[null,null,1944,{"$nulls":4},0,{"$nulls":17},"전문분야 입력<우측화살표 클릭>"]
[null,null,1945]
[null,null,1946,{"$nulls":4},"서울시"]
[null,null,1947,{"$nulls":4},"부산시"]
[null,null,1948,{"$nulls":4},"대구시"]
[null,null,1949,{"$nulls":4},"인천시"]
[null,null,1950,{"$nulls":4},"세종시",{"$nulls":17},"<자격요건 선택> -> 오른쪽 화살표 클릭"]
[null,null,1951,{"$nulls":4},"광주시",{"$nulls":17},"1. ｢대학교원 자격기준 등에 관한 규정｣에서 인정하는 대학 조교수 이상인 자"]
[null,null,1952,{"$nulls":4},"대전시",{"$nulls":17},"2. 기술사·건축사, 감정평가사, 공인회계사, 변호사, 해당분야 박사학위 소지자"]
[null,null,1953,{"$nulls":4},"울산시",{"$nulls":17},"3. 기술분야 실무경력이 10년 또는 재무 분야에서 실무경력이 5년 이상인 자"]
[null,null,1954,{"$nulls":4},"경기도",{"$nulls":17},"4. 국책(지자체) 연구기관 또는 정부(지자체) 출연연구기관의 책임연구원급 이상인 자"]
[null,null,1955,{"$nulls":4},"강원도"]
[null,null,1956,{"$nulls":4},"충청북도"]
[null,null,1957,{"$nulls":4},"충청남도"]
[null,null,1958,{"$nulls":4},"전라북도"]
[null,null,1959,{"$nulls":4},"전라남도"]
[null,null,1960,{"$nulls":4},"경상북도"]
[null,null,1961,{"$nulls":4},"경상남도"]
[null,null,1962,{"$nulls":4},"제주시"]
[null,null,1963]
[null,null,1964]
[null,null,1965]
[null,null,1966]
[null,null,1967]
[null,null,1968]
[null,null,1969]
[null,null,1970]
[null,null,1971]
[null,null,1972]
[null,null,1973]
[null,null,1974]
[null,null,1975]
[null,null,1976]
[null,null,1977]
[null,null,1978]
[null,null,1979]
[null,null,1980]
[null,null,1981]
[null,null,1982]
[null,null,1983]
[null,null,1984]
[null,null,1985]
[null,null,1986]
[null,null,1987]
[null,null,1988]
[null,null,1989]
[null,null,1990]
[null,null,1991]
[null,null,1992]
[null,null,1993]
[null,null,1994]
[null,null,1995]
[null,null,1996]
[null,null,1997]
[null,null,1998]
[null,null,1999]
[null,null,2000]
[null,null,2001]
[null,null,2002]
[null,null,2003]
[null,null,2004]
[null,null,2005]
[null,null,2006]
[null,null,2007]
[null,null,2008]
[null,null,2009]
[null,null,2010]
[null,null,2011]
[null,null,2012]
[null,null,2013]
[null,null,2014]
[null,null,2015]
[null,null,2016]
[null,null,2017]
[null,null,2018]
[null,null,2019]
[null,null,2020]
[null,null,2021]
[null,null,2022]
[null,null,2023]
[null,null,2024]
[null,null,2025]
[null,null,2026]
[null,null,2027]
[null,null,2028]
[null,null,2029]
[null,null,2030]
[null,null,2031]
[null,null,2032]
[null,null,2033]
[null,null,2034]
[null,null,2035]
[null,null,2036]
[null,null,2037]
[null,null,2038]
[null,null,2039]
[null,null,2040]
[null,null,"입력"]

{"sheet":"DB용 시트(삭제 및 임의변경 금지)","index":1,"n_rows":3,"n_cols":104,"rows_kept":3,"hidden":true,"merged":[[0,0,0,2],[0,4,0,10],[0,11,0,15],[0,16,0,30],[0,31,0,42],[0,43,0,78]]}
["1. 전문분야",null,null,"2. 자격요건","2. 인적사항",{"$nulls":6},"4. 직장현황",{"$nulls":4},"4. 학력사항",{"$nulls":14},"5. 자격증",{"$nulls":11},"6. 경력사항"]
["전문분야","세부전공분야1","세부전공분야2","자격요건","성명","휴대폰","생년월일","이메일1","이메일2","주소","자택전화","직장명","부서(학과)","담당업무","직급(직위)","주소","학위취득년월(1)","출신학교(1)","학위구분(1)","졸업구분(1)","전공분야(1)","학위취득년월\n(2)","출신학교\n(2)","학위구분\n(2)","졸업구분\n(2)","전공분야\n(2)","학위취득년월\n(3)","출신학교\n(3)","학위구분\n(3)","졸업구분\n(3)","전공분야\n(3)","자격취득년월\n(1)","자격증명\n(1)","자격증번호\n(1)","인가·관리기관\n(1)","자격취득년월\n(2)","자격증명\n(2)","자격증번호\n(2)","인가·관리기관\n(2)","자격취득년월\n(3)","자격증명\n(3)","자격증번호\n(3)","인가·관리기관\n(3)","근무기간시작\n(1)","근무기간종료\n(1)","근무기간산정(1)","근무처\n(1)","직위\n(1)","주요업무내용\n(1)","근무기간\n(2)","근무기간종료\n(2)","근무기간산정(2)","근무처\n(2)","직위\n(2)","주요업무내용\n(2)","근무기간\n(3)","근무기간종료\n(3)","근무기간산정(3)","근무처\n(3)","직위\n(3)","주요업무내용\n(3)","근무기간\n(4)","근무기간종료\n(4)","근무기간산정(4)","근무처\n(4)","직위\n(4)","주요업무내용\n(4)","근무기간\n(5)","근무기간종료\n(5)","근무기간산정(5)","근무처\n(5)","직위\n(5)","주요업무내용\n(5)","근무기간\n(6)","근무기간종료\n(6)","근무기간산정(6)","근무처\n(6)","직위\n(6)","주요업무내용\n(6)","근무기간\n(7)","근무기간종료\n(7)","근무기간산정(7)","근무처\n(7)","직위\n(7)","주요업무내용\n(7)","근무기간\n(8)","근무기간종료\n(8)","근무기간산정(8)","근무처\n(8)","직위\n(8)","주요업무내용\n(8)","근무기간\n(9)","근무기간종료\n(9)","근무기간산정(9)","근무처\n(9)","직위\n(9)","주요업무내용\n(9)","근무기간\n(10)","근무기간종료\n(10)","근무기간산정(10)","근무처\n(10)","직위\n(10)","주요업무내용\n(10)","민간투자사업 우선협상자\n선정을 위한 평가경험"]
[{"$f":"등록자료!C19","v":"전문분야 입력<우측화살표 클릭>"},{"$f":"등록자료!U19","v":"전문분야 입력<우측화살표 클릭>"},{"$f":"등록자료!U20","v":"전문분야 입력<우측화살표 클릭>"},{"$f":"등록자료!C21","v":"<자격요건 선택> -> 오른쪽 화살표 클릭"},{"$f":"등록자료!G22","v":"작성 예: 홍길동"},{"$f":"등록자료!G23","v":"작성 예: 000-0000-0000"},{"$f":"등록자료!U23","v":"작성 예: 1970-01-01"},{"$f":"등록자료!G24","v":"작성 예: hello@com.co.kr"},{"$f":"등록자료!U24","v":"작성 예: hello@si.re.kr"},{"$f":"등록자료!G25","v":"작성 예: 서울시 서초구 논현동 000-00"},{"$f":"등록자료!U25","v":0},{"$f":"등록자료!G26","v":"작성 예: 한국대학교"},{"$f":"등록자료!U26","v":"작성 예: 자원공학과"},{"$f":"등록자료!G27","v":"작성 예: 강의, 연구 등"},{"$f":"등록자료!U27","v":"작성 예: 정교수"},{"$f":"등록자료!G28","v":0},{"$f":"IF(등록자료!C30<>0,(DATE(등록자료!C30,등록자료!E30,1)),\"\")","v":{"$error":"#VALUE!"}},{"$f":"IF(등록자료!G30<>0,등록자료!G30,\"\")","v":""},{"$f":"IF(등록자료!Q30<>0,등록자료!Q30,\"\")","v":"<입력>"},{"$f":"IF(등록자료!S30<>0,등록자료!S30,\"\")","v":"<입력>"},{"$f":"IF(등록자료!U30<>0,등록자료!U30,\"\")","v":""},{"$f":"IF(등록자료!C31<>0,(DATE(등록자료!C31,등록자료!E31,1)),\"\")","v":""},{"$f":"IF(등록자료!G31<>0,등록자료!G31,\"\")","v":""},{"$f":"IF(등록자료!Q31<>0,등록자료!Q31,\"\")","v":""},{"$f":"IF(등록자료!S31<>0,등록자료!S31,\"\")","v":""},{"$f":"IF(등록자료!U31<>0,등록자료!U31,\"\")","v":""},{"$f":"IF(등록자료!C32<>0,(DATE(등록자료!C32,등록자료!E32,1)),\"\")","v":""},{"$f":"IF(등록자료!G32<>0,등록자료!G32,\"\")","v":""},{"$f":"IF(등록자료!Q32<>0,등록자료!Q32,\"\")","v":""},{"$f":"IF(등록자료!S32<>0,등록자료!S32,\"\")","v":""},{"$f":"IF(등록자료!U32<>0,등록자료!U32,\"\")","v":""},{"$f":"IF(등록자료!C34<>0,(DATE(등록자료!C34,등록자료!E34,1)),\"\")","v":{"$error":"#VALUE!"}},{"$f":"IF(등록자료!G34<>0,등록자료!G34,\"\")","v":""},{"$f":"IF(등록자료!U34<>0,등록자료!U34,\"\")","v":""},{"$f":"IF(등록자료!V34<>0,등록자료!V34,\"\")","v":""},{"$f":"IF(등록자료!C35<>0,(DATE(등록자료!C35,등록자료!E35,1)),\"\")","v":""},{"$f":"IF(등록자료!G35<>0,등록자료!G35,\"\")","v":""},{"$f":"IF(등록자료!U35<>0,등록자료!U35,\"\")","v":""},{"$f":"IF(등록자료!V35<>0,등록자료!V35,\"\")","v":""},{"$f":"IF(등록자료!C36<>0,(DATE(등록자료!C36,등록자료!E36,1)),\"\")","v":""},{"$f":"IF(등록자료!G36<>0,등록자료!G36,\"\")","v":""},{"$f":"IF(등록자료!U36<>0,등록자료!U36,\"\")","v":""},{"$f":"IF(등록자료!V36<>0,등록자료!V36,\"\")","v":""},{"$f":"IF(등록자료!C38<>0,(DATE(등록자료!C38,등록자료!E38,1)),\"\")","v":{"$error":"#VALUE!"}},{"$f":"IF(등록자료!H38<>0,(DATE(등록자료!H38,등록자료!J38,1)),\"\")","v":"2023-10-01"},{"$f":"등록자료!N38","v":{"$error":"#VALUE!"}},{"$f":"IF(등록자료!Q38<>0,등록자료!Q38,\"\")","v":"작성 예: 한국대학교"},{"$f":"IF(등록자료!T38<>0,등록자료!T38,\"\")","v":"작성 예: 정교수"},{"$f":"IF(등록자료!U38<>0,등록자료!U38,\"\")","v":"작성 예: 강의, 연구 등"},{"$f":"IF(등록자료!C39<>0,(DATE(등록자료!C39,등록자료!E39,1)),\"\")","v":""},{"$f":"IF(등록자료!H39<>0,(DATE(등록자료!H39,등록자료!J39,1)),\"\")","v":""},{"$f":"등록자료!N39","v":""},{"$f":"IF(등록자료!Q39<>0,등록자료!Q39,\"\")","v":""},{"$f":"IF(등록자료!T39<>0,등록자료!T39,\"\")","v":""},{"$f":"IF(등록자료!U39<>0,등록자료!U39,\"\")","v":""},{"$f":"IF(등록자료!C40<>0,(DATE(등록자료!C40,등록자료!E40,1)),\"\")","v":""},{"$f":"IF(등록자료!H40<>0,(DATE(등록자료!H40,등록자료!J40,1)),\"\")","v":""},{"$f":"등록자료!N40","v":""},{"$f":"IF(등록자료!Q40<>0,등록자료!Q40,\"\")","v":""},{"$f":"IF(등록자료!T40<>0,등록자료!T40,\"\")","v":""},{"$f":"IF(등록자료!U40<>0,등록자료!U40,\"\")","v":""},{"$f":"IF(등록자료!C41<>0,(DATE(등록자료!C41,등록자료!E41,1)),\"\")","v":""},{"$f":"IF(등록자료!H41<>0,(DATE(등록자료!H41,등록자료!J41,1)),\"\")","v":""},{"$f":"등록자료!N41","v":""},{"$f":"등록자료!Q41","v":0},{"$f":"등록자료!T41","v":0},{"$f":"등록자료!U41","v":0},{"$f":"IF(등록자료!C42<>0,(DATE(등록자료!C42,등록자료!E42,1)),\"\")","v":""},{"$f":"IF(등록자료!H42<>0,(DATE(등록자료!H42,등록자료!J42,1)),\"\")","v":""},{"$f":"등록자료!N42","v":""},{"$f":"등록자료!Q42","v":0},{"$f":"등록자료!T42","v":0},{"$f":"등록자료!U42","v":0},{"$f":"IF(등록자료!C43<>0,(DATE(등록자료!C43,등록자료!E43,1)),\"\")","v":""},{"$f":"IF(등록자료!H43<>0,(DATE(등록자료!H43,등록자료!J43,1)),\"\")","v":""},{"$f":"등록자료!N43","v":""},{"$f":"등록자료!Q43","v":0},{"$f":"등록자료!T43","v":0},{"$f":"등록자료!U43","v":0},{"$f":"IF(등록자료!C44<>0,(DATE(등록자료!C44,등록자료!E44,1)),\"\")","v":""},{"$f":"IF(등록자료!H44<>0,(DATE(등록자료!H44,등록자료!J44,1)),\"\")","v":""},{"$f":"등록자료!N44","v":""},{"$f":"등록자료!Q44","v":0},{"$f":"등록자료!T44","v":0},{"$f":"등록자료!U44","v":0},{"$f":"IF(등록자료!C45<>0,(DATE(등록자료!C45,등록자료!E45,1)),\"\")","v":""},{"$f":"IF(등록자료!H45<>0,(DATE(등록자료!H45,등록자료!J45,1)),\"\")","v":""},{"$f":"등록자료!N45","v":""},{"$f":"등록자료!Q45","v":0},{"$f":"등록자료!T45","v":0},{"$f":"등록자료!U45","v":0},{"$f":"IF(등록자료!C46<>0,(DATE(등록자료!C46,등록자료!E46,1)),\"\")","v":""},{"$f":"IF(등록자료!H46<>0,(DATE(등록자료!H46,등록자료!J46,1)),\"\")","v":""},{"$f":"등록자료!N46","v":""},{"$f":"등록자료!Q46","v":0},{"$f":"등록자료!T46","v":0},{"$f":"등록자료!U46","v":0},{"$f":"IF(등록자료!C47<>0,(DATE(등록자료!C47,등록자료!E47,1)),\"\")","v":""},{"$f":"IF(등록자료!H47<>0,(DATE(등록자료!H47,등록자료!J47,1)),\"\")","v":""},{"$f":"등록자료!N47","v":""},{"$f":"등록자료!Q47","v":0},{"$f":"등록자료!T47","v":0},{"$f":"등록자료!U47","v":0},{"$f":"등록자료!T48","v":"<입력>"}]