{"text_format":"3","workbook":"xlsx","n_sheets":3,"sheets":["이력서","이력서_기타사항 ","신청서"],"not_rendered":{"images":2,"defined_names":6},"read":"whole","date_system":"1900"}

{"sheet":"이력서","index":0,"n_rows":51,"n_cols":24,"rows_kept":51,"merged":[[0,0,0,24],[1,0,4,1],[1,2,2,2],[1,3,2,6],[1,7,2,10],[1,12,1,19],[1,20,6,24],[2,12,2,19],[3,2,4,2],[3,3,4,6],[3,7,4,10],[3,12,3,19],[4,12,4,19],[5,0,6,0],[5,2,5,6],[5,7,6,8],[5,11,6,15],[5,16,6,19],[6,2,6,6],[7,0,11,0],[7,1,10,1],[7,2,7,4],[7,5,7,17],[7,18,7,19],[7,20,7,24],[8,2,8,4],[8,5,8,8],[8,9,8,11],[8,12,8,15],[8,16,8,19],[8,20,8,24],[9,2,9,4],[9,5,9,8],[9,9,9,11],[9,12,9,15],[9,16,9,19],[9,20,9,24],[10,2,10,7],[10,8,10,24],[11,2,11,4],[11,5,11,17],[11,18,11,19],[11,20,11,24],[12,0,12,1],[12,2,12,6],[12,8,12,12],[12,14,12,18],[12,20,12,23],[13,0,16,1],[13,2,13,5],[13,6,13,14],[13,15,13,24],[14,2,14,5],[14,6,14,14],[14,15,14,24],[15,2,15,5],[15,6,15,14],[15,15,15,24],[16,2,16,5],[16,6,16,14],[16,15,16,24],[17,0,17,1],[17,6,17,14],[18,0,19,1],[18,2,18,5],[18,6,18,14],[18,15,18,24],[19,2,19,5],[19,6,19,12],[19,13,19,14],[19,15,19,24],[20,0,23,1],[20,2,20,4],[20,5,20,11],[20,12,20,13],[20,14,20,22],[20,23,20,24],[21,2,21,4],[21,5,21,11],[21,12,21,13],[21,14,21,22],[21,23,21,24],[22,2,22,4],[22,5,22,11],[22,12,22,13],[22,14,22,22],[22,23,22,24],[23,2,23,4],[23,5,23,11],[23,12,23,13],[23,14,23,22],[23,23,23,24],[24,0,28,1],[24,2,24,4],[24,5,24,6],[24,7,24,8],[24,9,24,10],[24,11,24,13],[24,14,24,15],[24,16,24,24],[25,2,25,4],[25,5,25,6],[25,7,25,8],[25,9,25,10],[25,11,25,13],[25,14,25,15],[25,16,25,24],[26,2,26,4],[26,5,26,6],[26,7,26,8],[26,9,26,10],[26,11,26,13],[26,14,26,15],[26,16,26,24],[27,2,27,4],[27,5,27,6],[27,7,27,8],[27,9,27,10],[27,11,27,13],[27,14,27,15],[27,16,27,24],[28,2,28,6],[28,7,28,8],[28,9,28,13],[28,14,28,24],[29,0,34,1],[29,2,29,4],[29,5,29,13],[29,14,29,24],[30,2,30,4],[30,5,30,13],[30,14,30,24],[31,2,31,4],[31,5,31,13],[31,14,31,24],[32,2,32,4],[32,5,32,13],[32,14,32,24],[33,2,33,4],[33,5,33,13],[33,14,33,24],[34,2,34,4],[34,5,34,13],[34,14,34,24],[35,0,45,0],[35,1,38,1],[35,2,35,7],[35,8,35,13],[35,14,35,21],[35,22,35,24],[36,2,36,7],[36,8,36,11],[36,12,36,13],[36,14,36,21],[36,22,36,24],[37,2,37,7],[37,8,37,11],[37,12,37,13],[37,14,37,21],[37,22,37,24],[38,2,38,7],[38,8,38,11],[38,12,38,13],[38,14,38,21],[38,22,38,24],[39,1,42,1],[39,2,39,7],[39,8,39,13],[39,14,39,21],[39,22,39,24],[40,2,40,7],[40,8,40,11],[40,12,40,13],[40,14,40,21],[40,22,40,24],[41,2,41,7],[41,8,41,11],[41,12,41,13],[41,14,41,21],[41,22,41,24],[42,2,42,7],[42,8,42,11],[42,12,42,13],[42,14,42,21],[42,22,42,24],[43,1,45,1],[43,2,43,7],[43,8,43,13],[43,14,43,21],[43,22,43,24],[44,2,44,7],[44,8,44,13],[44,14,44,21],[44,22,44,24],[45,2,45,7],[45,8,45,13],[45,14,45,21],[45,22,45,24],[46,0,46,1],[46,2,46,4],[46,5,46,8],[46,9,46,11],[46,12,46,15],[46,16,46,20],[46,21,46,24],[47,0,47,24],[48,18,48,23],[49,16,49,18],[49,19,49,21],[49,22,49,23],[50,0,50,24]]}
["K-water 기술심의위원 이력서"]
["전문분야",null,"① ",{"$nulls":4},"세부분야",{"$nulls":3},"① ",{"$nulls":8},"(증명사진)"]
[{"$nulls":11},"② "]
[null,null,"② ",{"$nulls":4},"세부분야",{"$nulls":3},"①"]
[{"$nulls":11},"② "]
["성명","한글",{"$nulls":5},"성별",null,"남",null,"생년월일"]
[null,"영문",{"$nulls":7},"여"]
["연락처","직 장","주소",{"$nulls":15},"(우)"]
[null,null,"H.P",{"$nulls":6},"Tel",{"$nulls":6},"Fax"]
[null,null,"직장명",{"$nulls":6},"부서명",{"$nulls":6},"직위(직급)"]
[null,null,"E-mail Address"]
[null,"자택","주소",{"$nulls":15},"(우)"]
["직업군",null,"공무원",{"$nulls":5},"공사, 공단, 연구기관",{"$nulls":5},"학계",{"$nulls":5},"업계"]
["자격면허\n(기술사, 박사)",null,"취득연월일",{"$nulls":3},"종별 및 등급",{"$nulls":8},"인가관청"]
[]
[]
[]
["자격면허(VE 자격증)"]
["기술보유",null,"취득연월일",{"$nulls":3},"종별 및 등급",{"$nulls":8},"인가관청"]
[]
["학력사항\n(최근순)",null,"취득연월일",null,null,"출신학교명",{"$nulls":6},"학위명",null,"전공분야",{"$nulls":8},"구분"]
[]
[]
[]
["경력사항\n(최근순)",null,"근무기간",null,null,"건설사",null,"ENG",null,"기타",null,"근무지",null,null,"직위",null,"주요업무경력"]
[]
[]
[]
[null,null,"K-water 재직여부",{"$nulls":6},"근무기간"]
["주요 저서\n및 논문\n(최근 5년간)",null,"제출연월일",null,null,"출판사명 또는 관련학회명 등",{"$nulls":8},"저서(논문)제목"]
[]
[]
[]
[]
[]
["참여 활동\n위원회\n(최근 5년간)","중앙,지방,특별 건설기술심의위원회","위원회명",{"$nulls":5},"운영기관",{"$nulls":5},"임기",{"$nulls":7},"비고"]
[]
[]
[]
[null,"건설기술\n자문위원회\n(공공기관 등)","위원회명",{"$nulls":5},"운영기관",{"$nulls":5},"임기",{"$nulls":7},"비고"]
[]
[]
[]
[null,"기타\n참여위원회","위원회명",{"$nulls":5},"운영기관",{"$nulls":5},"임기",{"$nulls":7},"비고"]
[]
[]
[{"$nulls":16},"VE위원회 참여"]
["  상기 내용이 허위로 밝혀지는 경우에는 이로 인해 발생되는 민․형사상의 모든 책임을 질 것을 서약합니다."]
[{"$nulls":18},"2024.08.00"]
[{"$nulls":16},"작성자",{"$nulls":5},"(인)"]
[" K - w a t e r 기술심의위원회 위원장 귀하"]

{"sheet":"이력서_기타사항 ","index":1,"n_rows":40,"n_cols":24,"rows_kept":40,"merged":[[0,0,0,24],[1,0,6,1],[1,2,1,5],[1,6,1,14],[1,15,1,24],[2,2,2,5],[2,6,2,14],[2,15,2,24],[3,2,3,5],[3,6,3,14],[3,15,3,24],[4,2,4,5],[4,6,4,14],[4,15,4,24],[5,2,5,5],[5,6,5,14],[5,15,5,24],[6,2,6,5],[6,6,6,14],[6,15,6,24],[7,0,12,1],[7,2,7,5],[7,6,7,14],[7,15,7,24],[8,2,8,5],[8,6,8,14],[8,15,8,24],[9,2,9,5],[9,6,9,14],[9,15,9,24],[10,2,10,5],[10,6,10,14],[10,15,10,24],[11,2,11,5],[11,6,11,14],[11,15,11,24],[12,2,12,5],[12,6,12,14],[12,15,12,24],[13,0,18,1],[13,2,13,4],[13,5,13,11],[13,12,13,13],[13,14,13,22],[13,23,13,24],[14,2,14,4],[14,5,14,11],[14,12,14,13],[14,14,14,22],[14,23,14,24],[15,2,15,4],[15,5,15,11],[15,12,15,13],[15,14,15,22],[15,23,15,24],[16,2,16,4],[16,5,16,11],[16,12,16,13],[16,14,16,22],[16,23,16,24],[17,2,17,4],[17,5,17,11],[17,12,17,13],[17,14,17,22],[17,23,17,24],[18,2,18,4],[18,5,18,11],[18,12,18,13],[18,14,18,22],[18,23,18,24],[19,0,24,1],[19,2,19,4],[19,5,19,6],[19,7,19,8],[19,9,19,10],[19,11,19,13],[19,14,19,15],[19,16,19,24],[20,2,20,4],[20,5,20,6],[20,7,20,8],[20,9,20,10],[20,11,20,13],[20,14,20,15],[20,16,20,24],[21,2,21,4],[21,5,21,6],[21,7,21,8],[21,9,21,10],[21,11,21,13],[21,14,21,15],[21,16,21,24],[22,2,22,4],[22,5,22,6],[22,7,22,8],[22,9,22,10],[22,11,22,13],[22,14,22,15],[22,16,22,24],[23,2,23,4],[23,5,23,6],[23,7,23,8],[23,9,23,10],[23,11,23,13],[23,14,23,15],[23,16,23,24],[24,2,24,4],[24,5,24,6],[24,7,24,8],[24,9,24,10],[24,11,24,13],[24,14,24,15],[24,16,24,24],[25,0,30,1],[25,2,25,4],[25,5,25,13],[25,14,25,24],[26,2,26,4],[26,5,26,13],[26,14,26,24],[27,2,27,4],[27,5,27,13],[27,14,27,24],[28,2,28,4],[28,5,28,13],[28,14,28,24],[29,2,29,4],[29,5,29,13],[29,14,29,24],[30,2,30,4],[30,5,30,13],[30,14,30,24],[31,0,41,0],[31,1,34,1],[31,2,31,7],[31,8,31,13],[31,14,31,21],[31,22,31,24],[32,2,32,7],[32,8,32,11],[32,12,32,13],[32,14,32,21],[32,22,32,24],[33,2,33,7],[33,8,33,11],[33,12,33,13],[33,14,33,21],[33,22,33,24],[34,2,34,7],[34,8,34,11],[34,12,34,13],[34,14,34,21],[34,22,34,24],[35,1,38,1],[35,2,35,7],[35,8,35,13],[35,14,35,21],[35,22,35,24],[36,2,36,7],[36,8,36,11],[36,12,36,13],[36,14,36,21],[36,22,36,24],[37,2,37,7],[37,8,37,11],[37,12,37,13],[37,14,37,21],[37,22,37,24],[38,2,38,7],[38,8,38,11],[38,12,38,13],[38,14,38,21],[38,22,38,24],[39,1,41,1],[39,2,39,7],[39,8,39,13],[39,14,39,21],[39,22,39,24],[40,2,40,7],[40,8,40,13],[40,14,40,21],[40,22,40,24],[41,2,41,7],[41,8,41,13],[41,14,41,21],[41,22,41,24]]}
["추가내용 작성"]
["자격면허",null,"취득연월일",{"$nulls":3},"종별 및 등급",{"$nulls":8},"인가관청"]
[]
[]
[]
[]
[]
["기술보유",null,"취득연월일",{"$nulls":3},"종별 및 등급",{"$nulls":8},"인가관청"]
[]
[]
[]
[]
[]
["학력사항",null,"취득연월일",null,null,"출신학교명",{"$nulls":6},"학위명",null,"전공분야",{"$nulls":8},"구분"]
[]
[]
[]
[]
[]
["경력사항",null,"근무기간",null,null,"건설사",null,"ENG",null,"기타",null,"근무지",null,null,"직위",null,"주요업무경력"]
[]
[]
[]
[]
[]
["주요 저서\n및 논문",null,"제출연월일",null,null,"출판사명 또는 관련학회명 등",{"$nulls":8},"저서(논문)제목"]
[]
[]
[]
[]
[]
["참여 활동\n위원회\n(최근 5년간)","중앙,지방,특별 건설기술심의위원회","위원회명",{"$nulls":5},"운영기관",{"$nulls":5},"임기",{"$nulls":7},"비고"]
[]
[]
[]
[null,"건설기술\n자문위원회\n(공공기관 등)","위원회명",{"$nulls":5},"운영기관",{"$nulls":5},"임기",{"$nulls":7},"비고"]
[]
[]
[]
[null,"기타\n참여위원회","위원회명",{"$nulls":5},"운영기관",{"$nulls":5},"임기",{"$nulls":7},"비고"]

{"sheet":"신청서","index":2,"n_rows":8,"n_cols":141,"rows_kept":8,"merged":[[1,0,1,14],[3,0,3,9],[4,0,4,9]]}
[]
["23~24년 K-water 기술심의 위원회 추가모집 참여 신청서"]
[]
["< 작성방법> : 내용은 이력서 작성시, 자동 기입되어 수정이 불가하며, 확인만 가능 (문의사항이 있을시 042-629-3746 연락)"]
["ㅇ 작성이 완료된  엑셀파일은 반드시 제출"]
[]
["성명","생년월일","전문분야1","세부분야\n(1-①)","세부분야\n(1-② )","전문분야2","세부분야\n(2-①)","세부분야\n(2-② )","소속","부서","직위","직장주소","핸드폰번호","이메일","VE 활동 참여 희망","위원회활동횟수","위원회 활동(점수)","특허 보유 여부","신기술 보유 여부","Kwater 재직여부","논문제출수","경력기간(1)","경력업체(1)","경력기간(2)","경력업체(2)","경력기간(3)","경력업체(3)","최종학력","자격증1","자격증2","자격증3"]
[{"$f":"IF(이력서!$C$6>1, 이력서!$C$6,\"\")","v":""},{"$f":"IF(이력서!$Q$6>1, 이력서!$Q$6,\"\")","v":""},{"$f":"IF(이력서!$D$2>1, 이력서!$D$2, \"\")","v":""},{"$f":"IF(이력서!$M$2>1, 이력서!$M$2,\"\")","v":""},{"$f":"IF(이력서!$M$3>1, 이력서!$M$3, \"\")","v":""},{"$f":"IF(이력서!$D$4>1, 이력서!$D$4,\"\")","v":""},{"$f":"IF(이력서!$M$4>1, 이력서!$M$4,\"\")","v":""},{"$f":"IF(이력서!$M$5>1,이력서!$M$5,\"\")","v":""},{"$f":"IF(이력서!$F$10>1, 이력서!$F$10,\"\")","v":""},{"$f":"IF(이력서!$M$10>1, 이력서!$M$10,\"\")","v":""},{"$f":"IF(이력서!$U$10>1, 이력서!$U$10, \"\")","v":""},{"$f":"IF(이력서!$F$8>1, 이력서!$F$8,\"\")","v":""},{"$f":"IF(이력서!$F$9>1,이력서!$F$9,\"\")","v":""},{"$f":"IF(이력서!$I$11>1, 이력서!$I$11, \"\")","v":""},{"$f":"IF(이력서!$V$47>1, 이력서!$V$47, \"\")","v":""},{"$f":"COUNTA(이력서!$C$37:$H$46)-2","v":0},{"$f":"IF(COUNTIF(이력서!$M$37:$N$39,\"중앙부처\")>0,\"20\", IF(COUNTIF(이력서!$M$37:$N$39,\"지자체\")>0,\"10\", IF(COUNTIF(이력서!$M$41:$N$43,\"K-water\")>0,\"15\",  IF(COUNTIF(이력서!$M$41:$N$43,\"공공기관\")>0,\"10\",\"0\"))))","v":"0"},{"$f":"IF(이력서!$N$20=\"특허\", \"O\", \"\")","v":""},{"$f":"IF(이력서!$N$20=\"신기술\", \"O\", \"\")","v":""},{"$f":"이력서!$H$29","v":0},{"$f":"COUNTA(이력서!$O$31:$Y$35)","v":0},{"$f":"이력서!$C$26","v":0},{"$f":"이력서!$L$26","v":0},{"$f":"이력서!$C$27","v":0},{"$f":"이력서!$L$27","v":0},{"$f":"이력서!$C$28","v":0},{"$f":"이력서!$L$28","v":0},{"$f":"이력서!$M$22","v":0},{"$f":"이력서!$G$15","v":0},{"$f":"이력서!$G$16","v":0},{"$f":"이력서!$G$17","v":0},{"$f":"이력서!$C$7","v":0},{"$f":"이력서!$K$6","v":0},{"$f":"이력서!K7","v":0},{"$f":"이력서!U8","v":0},{"$f":"이력서!M9","v":0},{"$f":"이력서!U9","v":0},{"$f":"이력서!F12","v":0},{"$f":"이력서!U12","v":0},{"$f":"이력서!H13","v":0},{"$f":"이력서!N13","v":0},{"$f":"이력서!T13","v":0},{"$f":"이력서!Y13","v":0},{"$f":"이력서!C15","v":0},{"$f":"이력서!C16","v":0},{"$f":"이력서!C17","v":0},{"$f":"이력서!G15","v":0},{"$f":"이력서!G16","v":0},{"$f":"이력서!G17","v":0},{"$f":"이력서!P15","v":0},{"$f":"이력서!P16","v":0},{"$f":"이력서!P17","v":0},{"$f":"이력서!C20","v":0},{"$f":"이력서!G20","v":0},{"$f":"이력서!P20","v":0},{"$f":"이력서!C22","v":0},{"$f":"이력서!F22","v":0},{"$f":"이력서!M22","v":0},{"$f":"이력서!O22","v":0},{"$f":"이력서!X22","v":0},{"$f":"이력서!C23","v":0},{"$f":"이력서!F23","v":0},{"$f":"이력서!M23","v":0},{"$f":"이력서!O23","v":0},{"$f":"이력서!X23","v":0},{"$f":"이력서!C24","v":0},{"$f":"이력서!F24","v":0},{"$f":"이력서!M24","v":0},{"$f":"이력서!O24","v":0},{"$f":"이력서!X24","v":0},{"$f":"이력서!F26","v":0},{"$f":"이력서!F27","v":0},{"$f":"이력서!F28","v":0},{"$f":"이력서!H26","v":0},{"$f":"이력서!H27","v":0},{"$f":"이력서!H28","v":0},{"$f":"이력서!J26","v":0},{"$f":"이력서!J27","v":0},{"$f":"이력서!J28","v":0},{"$f":"이력서!O26","v":0},{"$f":"이력서!O27","v":0},{"$f":"이력서!O28","v":0},{"$f":"이력서!Q26","v":0},{"$f":"이력서!Q27","v":0},{"$f":"이력서!Q28","v":0},{"$f":"이력서!O29","v":0},{"$f":"이력서!C31","v":0},{"$f":"이력서!F31","v":0},{"$f":"이력서!O31","v":0},{"$f":"이력서!C35","v":0},{"$f":"이력서!F35","v":0},{"$f":"이력서!O35","v":0},{"$f":"이력서!C45","v":0},{"$f":"이력서!I45","v":0},{"$f":"이력서!O45","v":0},{"$f":"이력서!W45","v":0},{"$f":"이력서!C46","v":0},{"$f":"이력서!I46","v":0},{"$f":"이력서!O46","v":0},{"$f":"이력서!W46","v":0},{"$f":"이력서!T50","v":0},{"$f":"이력서!$C$26","v":0},{"$f":"이력서!$L$26","v":0},{"$f":"이력서!$C$27","v":0},{"$f":"이력서!$L$27","v":0},{"$f":"이력서!$C$28","v":0},{"$f":"이력서!$L$28","v":0},{"$f":"이력서!$H$29","v":0},{"$f":"이력서!$C$32","v":0},{"$f":"이력서!$F$32","v":0},{"$f":"이력서!$O$32","v":0},{"$f":"이력서!$C$33","v":0},{"$f":"이력서!$F$33","v":0},{"$f":"이력서!$O$33","v":0},{"$f":"이력서!$C$34","v":0},{"$f":"이력서!$F$34","v":0},{"$f":"이력서!$O$34","v":0},{"$f":"이력서!$C$37","v":0},{"$f":"이력서!$I$37","v":0},{"$f":"이력서!$O$37","v":0},{"$f":"이력서!$W$37","v":0},{"$f":"이력서!$C$38","v":0},{"$f":"이력서!$I$38","v":0},{"$f":"이력서!$O$38","v":0},{"$f":"이력서!$W$38","v":0},{"$f":"이력서!$C$39","v":0},{"$f":"이력서!$I$39","v":0},{"$f":"이력서!$O$39","v":0},{"$f":"이력서!$W$39","v":0},{"$f":"이력서!$C$41","v":0},{"$f":"이력서!$I$41","v":0},{"$f":"이력서!$O$41","v":0},{"$f":"이력서!$W$41","v":0},{"$f":"이력서!$C$42","v":0},{"$f":"이력서!$I$42","v":0},{"$f":"이력서!$O$42","v":0},{"$f":"이력서!$W$42","v":0},{"$f":"이력서!$C$43","v":0},{"$f":"이력서!$I$43","v":0},{"$f":"이력서!$O$43","v":0},{"$f":"이력서!$W$43","v":0}]