{"text_format":"3","workbook":"xlsx","n_sheets":4,"sheets":["등록신청서","별지","raw data","요약표"],"not_rendered":{"images":1,"defined_names":14},"read":"whole","date_system":"1900"}

{"sheet":"등록신청서","index":0,"n_rows":36,"n_cols":12,"rows_kept":36,"merged":[[0,0,0,12],[1,1,1,2],[1,3,1,5],[1,9,1,10],[1,11,1,12],[2,1,2,2],[2,3,2,8],[2,9,2,10],[2,11,2,12],[3,1,3,2],[3,3,3,8],[3,9,3,10],[3,11,3,12],[4,0,8,0],[4,1,4,2],[4,3,4,8],[4,9,4,10],[4,11,4,12],[5,1,5,2],[5,3,5,8],[5,9,5,10],[5,11,5,12],[6,1,6,2],[6,3,6,8],[6,9,6,10],[6,11,6,12],[7,1,7,2],[7,3,7,8],[7,9,7,10],[7,11,7,12],[8,1,8,2],[8,3,8,8],[8,9,8,10],[8,11,8,12],[9,1,9,12],[10,0,14,0],[10,1,10,2],[10,3,10,8],[10,9,10,10],[10,11,10,12],[11,3,11,8],[11,9,11,10],[11,11,11,12],[12,3,12,8],[12,9,12,10],[12,11,12,12],[13,3,13,8],[13,9,13,10],[13,11,13,12],[14,3,14,8],[14,9,14,10],[14,11,14,12],[15,0,20,0],[15,1,15,2],[15,3,15,8],[15,11,15,12],[16,3,16,8],[16,11,16,12],[17,3,17,8],[17,11,17,12],[18,3,18,8],[18,11,18,12],[19,3,19,8],[19,11,19,12],[20,1,20,5],[20,6,20,12],[21,0,24,0],[21,1,21,9],[21,10,21,12],[22,1,22,9],[22,10,22,12],[23,1,23,9],[23,10,23,12],[24,1,24,9],[24,10,24,12],[25,0,30,0],[25,1,25,5],[25,6,25,9],[25,11,25,12],[26,6,26,9],[26,11,26,12],[27,6,27,9],[27,11,27,12],[28,6,28,9],[28,11,28,12],[29,6,29,9],[29,11,29,12],[30,2,30,3],[30,7,30,8],[31,0,31,12],[32,0,32,12],[33,0,34,12],[35,0,35,12]]}
["서울주택도시공사 제18기 건설기술자문위원 후보자 등록신청서"]
["1. 성명(한글)",null,null,"2. 생년월일",{"$nulls":5},"3. 성별"]
["4. 지원분야","공종",{"$nulls":7},"전문분야"]
["5. 자택주소\n(현거주지)","주소",{"$nulls":7},"지역"]
["6. 현 근무처\n및 연락처","휴대폰",{"$nulls":7},"직장전화"]
[null,"E-mail",{"$nulls":7},"FAX"]
[null,"직장명",{"$nulls":7},"직위(직급)"]
[null,"직장주소",{"$nulls":7},"지역"]
[null,"부서명",{"$nulls":7},"담당업무"]
["7. 직종구분"]
["8. 자격증","취득년월",null,"자격증명",{"$nulls":5},"자격등급",null,"인가•관리기관"]
[]
[]
[]
[]
["9. 학력","취득년월",null,"출신학교",{"$nulls":5},"학위구분","졸업구분","전공분야"]
[]
[]
[]
[]
[null,"논문명"]
["10. 외부공공기관    자문위원활동","위원회명",{"$nulls":8},"기관명"]
[]
[]
[]
["11. 주요경력사항","근무기간(년,월)",{"$nulls":4},"근무처",{"$nulls":3},"직위","주요업무"]
[{"$nulls":3},"~"]
[{"$nulls":3},"~"]
[{"$nulls":3},"~"]
[{"$nulls":3},"~"]
[null,"합계\n(년,월)","설계",{"$nulls":3},"시공",{"$nulls":3},"감리"]
[]
["2023년 00월 00일"]
["작성자:                     (인)"]
[]
["서울주택도시공사 사장 귀하"]

{"sheet":"별지","index":1,"n_rows":23,"n_cols":12,"rows_kept":23,"merged":[[0,0,0,12],[1,0,5,0],[1,1,1,2],[1,3,1,8],[1,9,1,10],[1,11,1,12],[2,3,2,8],[2,9,2,10],[2,11,2,12],[3,3,3,8],[3,9,3,10],[3,11,3,12],[4,3,4,8],[4,9,4,10],[4,11,4,12],[5,3,5,8],[5,9,5,10],[5,11,5,12],[6,0,13,0],[6,1,6,2],[6,3,6,8],[6,11,6,12],[7,3,7,8],[7,11,7,12],[8,3,8,8],[8,11,8,12],[9,3,9,8],[9,11,9,12],[10,3,10,8],[10,11,10,12],[11,1,11,5],[11,6,11,12],[12,1,12,5],[12,6,12,12],[13,1,13,5],[13,6,13,12],[14,0,17,0],[14,1,14,9],[14,10,14,12],[15,1,15,9],[15,10,15,12],[16,1,16,9],[16,10,16,12],[17,1,17,9],[17,10,17,12],[18,0,22,0],[18,1,18,5],[18,6,18,9],[18,11,18,12],[19,6,19,9],[19,11,19,12],[20,6,20,9],[20,11,20,12],[21,6,21,9],[21,11,21,12],[22,6,22,9],[22,11,22,12]]}
["자격증, 학력, 외부공공기관 자문활동, 경력사항 (별지)"]
["8. 자격증","취득년월",null,"자격증명",{"$nulls":5},"자격등급",null,"인가•관리기관"]
[]
[]
[]
[]
["9. 학력","취득년월",null,"출신학교",{"$nulls":5},"학위구분","졸업구분","전공분야"]
[]
[]
[]
[]
[null,"논문명"]
[null,"논문명"]
[null,"논문명"]
["10. 외부공공기관    자문위원활동","위원회명",{"$nulls":8},"기관명"]
[]
[]
[]
["11. 주요경력사항","근무기간(년,월)",{"$nulls":4},"근무처",{"$nulls":3},"직위","주요업무"]
[{"$nulls":3},"~"]
[{"$nulls":3},"~"]
[{"$nulls":3},"~"]
[{"$nulls":3},"~"]

{"sheet":"raw data","index":2,"n_rows":75,"n_cols":23,"rows_kept":75,"hidden":true}
["연","월","일","성별","공종","전문분야","직종구분","학위구분","졸업구분","자격","지역","경력","건축","토목","기계","소방","전기","통신","조경","디자인","VE","스마트 건설기술","건설사업관리"]
[1950,"01","01","남","건축","건축계획 및 설계","공무원","학사(국내)","졸업","건축사","서울","01","건축계획 및 설계","도시계획 및 설계","기계설비","소방시설","전기설비","정보통신 설비","조경계획 및 시공","토탈디자인","VE(건축)","스마트 건설기술","건설사업관리"]
[1951,"02","02","여","토목","단지계획","공공기관(공기업 등)","석사(국내)","수료","기술사","경기","02","단지계획","교통계획",{"$nulls":4},"생태 및 친환경",null,"VE(토목)"]
[1952,"03","03",null,"기계","건축시공","학계","박사(국내)","재학","기사","인천","03","건축시공","도로 및 공항",{"$nulls":4},"도시경관조경디자인",null,"VE(기계)"]
[1953,"04","04",null,"소방","건축구조","업계","학사(국외)","휴학","산업기사","기타","04","건축구조","환경계획",{"$nulls":6},"VE(전기)"]
[1954,"05","05",null,"전기","토탈디자인","그외","석사(국외)","중퇴","기타",null,"05",null,"토질 및 기초",{"$nulls":6},"VE(조경)"]
[1955,"06","06",null,"통신","도시계획 및 설계",null,"기타",{"$nulls":3},"06",null,"토목구조"]
[1956,"07","07",null,"조경","교통계획",null,"박사(국외)",{"$nulls":3},"07",null,"토목시공"]
[1957,"08","08",null,"디자인","도로 및 공항",null,"전문학사(국내)",{"$nulls":3},"08",null,"상하수도"]
[1958,"09","09",null,"VE","환경계획",null,"고등학교",{"$nulls":3},"09",null,"하천 및 수자원"]
[1959,"10","10",null,"스마트건설기술","토질 및 기초",{"$nulls":5},"10"]
[1960,"11","11",null,"건설사업관리","토목구조",{"$nulls":5},"11"]
[1961,"12","12",null,null,"토목시공",{"$nulls":5},"12"]
[1962,null,"13",null,null,"상하수도",{"$nulls":5},"13"]
[1963,null,"14",null,null,"하천 및 수자원",{"$nulls":5},"14"]
[1964,null,"15",null,null,"기계설비",{"$nulls":5},"15"]
[1965,null,"16",null,null,"소방시설",{"$nulls":5},"16"]
[1966,null,"17",null,null,"전기설비",{"$nulls":5},"17"]
[1967,null,"18",null,null,"정보통신 설비",{"$nulls":5},"18"]
[1968,null,"19",null,null,"조경계획 및 시공",{"$nulls":5},"19"]
[1969,null,"20",null,null,"생태 및 친환경",{"$nulls":5},"20"]
[1970,null,"21",null,null,"도시경관조경디자인",{"$nulls":5},"21"]
[1971,null,"22",null,null,"VE(건축)",{"$nulls":5},"22"]
[1972,null,"23",null,null,"VE(토목)",{"$nulls":5},"23"]
[1973,null,"24",null,null,"VE(기계)",{"$nulls":5},"24"]
[1974,null,"25",null,null,"VE(전기)",{"$nulls":5},"25"]
[1975,null,"26",null,null,"VE(조경)",{"$nulls":5},"26"]
[1976,null,"27",null,null,"스마트건설기술",{"$nulls":5},"27"]
[1977,null,"28",null,null,"건설사업관리",{"$nulls":5},"28"]
[1978,null,"29",{"$nulls":8},"29"]
[1979,null,"30",{"$nulls":8},"30"]
[1980,null,"31",{"$nulls":8},"31"]
[1981,{"$nulls":10},"32"]
[1982,{"$nulls":10},"33"]
[1983,{"$nulls":10},"34"]
[1984,{"$nulls":10},"35"]
[1985,{"$nulls":10},"36"]
[1986,{"$nulls":10},"37"]
[1987,{"$nulls":10},"38"]
[1988,{"$nulls":10},"39"]
[1989,{"$nulls":10},"40"]
[1990]
[1991]
[1992]
[1993]
[1994]
[1995]
[1996]
[1997]
[1998]
[1999]
[2000]
[2001]
[2002]
[2003]
[2004]
[2005]
[2006]
[2007]
[2008]
[2009]
[2010]
[2011]
[2012]
[2013]
[2014]
[2015]
[2016]
[2017]
[2018]
[2019]
[2020]
[2021]
[2022]
[2023]

{"sheet":"요약표","index":3,"n_rows":2,"n_cols":83,"rows_kept":2,"hidden":true}
["POOL 코드","기수","위원번호(숫자 5자리)","성명","성별","공종코드","전문분야코드","생년월일","자택주소","자택지역","현근무처 휴대폰","현근무처 직장전화","현근무처 E-mail","현근무처 FAX","현근무처 근무처코드","현근무처 직장주소","현근무처 부서명(소재지)","현근무처 담당업무","직종구분","시의원여부","논문명","자격증\n취득년월1","자격증명\n1","자격등급\n1","인가/관리기관\n1","자격증\n취득년월2","자격증명\n2","자격등급\n2","인가/관리기관\n2","자격증\n취득년월3","자격증명\n3","자격등급\n3","인가/관리기관\n3","자격증\n취득년월4","자격증명\n4","자격등급\n4","인가/관리기관\n4","학위취득년월\n1","출신학교\n1","학위구분\n1","졸업구분\n1","전공분야\n1","학위취득년월\n2","출신학교\n2","학위구분\n2","졸업구분\n2","전공분야\n2","학위취득년월\n3","출신학교\n3","학위구분\n3","졸업구분\n3","전공분야\n3","학위취득년월\n4","출신학교\n4","학위구분\n4","졸업구분\n4","전공분야\n4","위원회명(최근 3년)\n1","기관명\n1","위원회명(최근 3년)\n2","기관명\n2","위원회명(최근 3년)\n3","기관명\n3","근무시작기간\n1","근무종료기간\n1","근무처\n1","직위\n1","주요업무경력\n1","근무시작기간\n2","근무종료기간\n2","근무처\n2","직위\n2","주요업무경력\n2","근무시작기간\n3","근무종료기간\n3","근무처\n3","직위\n3","주요업무경력\n3","근무시작기간\n4","근무종료기간\n4","근무처\n4","직위\n4","주요업무경력\n4"]
[{"$nulls":3},{"$f":"등록신청서!B2","v":0},{"$f":"등록신청서!L2","v":0},{"$f":"등록신청서!D3","v":0},{"$f":"등록신청서!L3","v":0},{"$f":"등록신청서!G2&등록신청서!H2&등록신청서!I2","v":""},{"$f":"등록신청서!D4","v":0},{"$f":"등록신청서!L4","v":0},{"$f":"등록신청서!D5","v":0},{"$f":"등록신청서!L5","v":0},{"$f":"등록신청서!D6","v":0},{"$f":"등록신청서!L6","v":0},null,{"$f":"등록신청서!D8","v":0},{"$f":"등록신청서!D9","v":0},{"$f":"등록신청서!L7","v":0},{"$f":"등록신청서!B10","v":0},null,{"$f":"등록신청서!G21","v":0},{"$f":"등록신청서!B12&등록신청서!C12","v":""},{"$f":"등록신청서!D12","v":0},{"$f":"등록신청서!J12","v":0},{"$f":"등록신청서!L12","v":0},{"$f":"등록신청서!B13&등록신청서!C13","v":""},{"$f":"등록신청서!D13","v":0},{"$f":"등록신청서!J13","v":0},{"$f":"등록신청서!L13","v":0},{"$f":"등록신청서!B14&등록신청서!C14","v":""},{"$f":"등록신청서!D14","v":0},{"$f":"등록신청서!J14","v":0},{"$f":"등록신청서!L14","v":0},{"$f":"등록신청서!B15&등록신청서!C15","v":""},{"$f":"등록신청서!D15","v":0},{"$f":"등록신청서!J15","v":0},{"$f":"등록신청서!L15","v":0},{"$f":"등록신청서!B17&등록신청서!C17","v":""},{"$f":"등록신청서!D17","v":0},{"$f":"등록신청서!J17","v":0},{"$f":"등록신청서!K17","v":0},{"$f":"등록신청서!L17","v":0},{"$f":"등록신청서!B18&등록신청서!C18","v":""},{"$f":"등록신청서!D18","v":0},{"$f":"등록신청서!J18","v":0},{"$f":"등록신청서!K18","v":0},{"$f":"등록신청서!L18","v":0},{"$f":"등록신청서!B19&등록신청서!C19","v":""},{"$f":"등록신청서!D19","v":0},{"$f":"등록신청서!J19","v":0},{"$f":"등록신청서!K19","v":0},{"$f":"등록신청서!L19","v":0},{"$f":"등록신청서!B20&등록신청서!C20","v":""},{"$f":"등록신청서!D20","v":0},{"$f":"등록신청서!J20","v":0},{"$f":"등록신청서!K20","v":0},{"$f":"등록신청서!L20","v":0},{"$f":"등록신청서!B23","v":0},{"$f":"등록신청서!K23","v":0},{"$f":"등록신청서!B24","v":0},{"$f":"등록신청서!K24","v":0},{"$f":"등록신청서!B25","v":0},{"$f":"등록신청서!K25","v":0},{"$f":"등록신청서!B27&등록신청서!C27","v":""},{"$f":"등록신청서!E27&등록신청서!F27","v":""},{"$f":"등록신청서!G27","v":0},{"$f":"등록신청서!K27","v":0},{"$f":"등록신청서!L27","v":0},{"$f":"등록신청서!B28&등록신청서!C28","v":""},{"$f":"등록신청서!E28&등록신청서!F28","v":""},{"$f":"등록신청서!G28","v":0},{"$f":"등록신청서!K28","v":0},{"$f":"등록신청서!L28","v":0},{"$f":"등록신청서!B29&등록신청서!C29","v":""},{"$f":"등록신청서!E29&등록신청서!F29","v":""},{"$f":"등록신청서!G29","v":0},{"$f":"등록신청서!K29","v":0},{"$f":"등록신청서!L29","v":0},{"$f":"등록신청서!B30&등록신청서!C30","v":""},{"$f":"등록신청서!E30&등록신청서!F30","v":""},{"$f":"등록신청서!G30","v":0},{"$f":"등록신청서!K30","v":0},{"$f":"등록신청서!L30","v":0}]