{"text_format":"3","workbook":"xlsx","n_sheets":3,"sheets":["등록신청서","취합","현황정리"],"not_rendered":{"defined_names":2,"comments":1},"read":"whole","date_system":"1900"}

{"sheet":"등록신청서","index":0,"n_rows":38,"n_cols":18,"rows_kept":38,"merged":[[0,0,0,18],[1,0,1,18],[3,0,3,1],[4,0,4,2],[4,3,4,4],[4,5,4,8],[4,9,4,10],[4,11,4,14],[4,15,9,18],[5,0,5,2],[5,3,5,4],[5,5,5,8],[5,9,5,10],[5,11,5,14],[6,0,6,2],[6,3,6,14],[7,0,9,2],[7,3,7,4],[7,5,7,8],[7,9,7,10],[7,11,7,14],[8,3,8,4],[8,5,8,8],[8,9,8,10],[8,11,8,14],[9,3,9,4],[9,5,9,14],[10,0,10,2],[10,3,10,4],[10,5,10,6],[10,7,10,8],[10,9,10,12],[10,13,10,14],[10,15,10,18],[11,0,12,2],[11,3,11,4],[11,5,11,8],[11,9,11,10],[11,11,11,18],[12,3,12,4],[12,5,12,8],[12,9,12,10],[12,11,12,18],[13,0,15,2],[13,3,13,4],[13,5,13,12],[13,13,13,14],[13,15,13,18],[14,3,14,4],[14,5,14,12],[14,13,14,14],[14,15,14,18],[15,3,15,4],[15,5,15,12],[15,13,15,14],[15,15,15,18],[16,0,19,2],[16,3,16,7],[16,8,16,12],[16,13,16,18],[17,3,17,7],[17,8,17,12],[17,13,17,18],[18,3,18,7],[18,8,18,12],[18,13,18,18],[19,3,19,7],[19,8,19,12],[19,13,19,18],[20,0,21,2],[20,3,20,4],[20,5,20,7],[20,8,20,12],[20,13,20,16],[20,17,20,18],[21,3,21,4],[21,5,21,7],[21,8,21,12],[21,13,21,16],[21,17,21,18],[22,0,25,2],[22,3,22,4],[22,5,22,7],[22,8,22,9],[22,10,22,12],[22,13,22,14],[22,15,22,18],[23,3,23,4],[23,5,23,7],[23,8,23,9],[23,10,23,12],[23,13,23,14],[23,15,23,18],[24,3,24,4],[24,5,24,7],[24,8,24,9],[24,10,24,12],[24,13,24,14],[24,15,24,18],[25,3,25,4],[25,5,25,7],[25,8,25,9],[25,10,25,12],[25,13,25,14],[25,15,25,18],[26,0,29,2],[26,3,26,5],[26,6,26,9],[26,10,26,14],[26,15,26,18],[27,3,27,5],[27,6,27,9],[27,10,27,14],[27,15,27,18],[28,3,28,5],[28,6,28,9],[28,10,28,14],[28,15,28,18],[29,3,29,5],[29,6,29,9],[29,10,29,14],[29,15,29,18],[30,0,30,18],[31,0,31,18],[32,0,32,18],[33,11,33,13],[34,11,34,13],[34,14,34,16],[34,17,34,18],[35,12,35,18],[37,0,37,18]]}
["가덕도신공항건설공단"]
[" 제1기 건설기술자문위원 후보자 등록 신청서"]
["※ 노란색","표시 칸은 필수 작성란입니다."]
["1.해당자격요건"]
[" ",null,null,"한글",null,"김가덕",{"$nulls":3},"영문",null,"Gadeok Kim",{"$nulls":3},"사진\n(이미지파일)"]
["2. 생년월일/성별",null,null,"생년월일",null,"YYYY-MM-DD",{"$nulls":3},"성별",null,"남/여"]
["3. 직업군",null,null,"공무원/공기업/연구원/교수/업계/기타"]
["4. 직장현황\n *재직증명서 제출 必",null,null,"직장명",null,"000대학교",{"$nulls":3},"부서명",null,"00000학과"]
[{"$nulls":3},"직위",null,"00학과장",{"$nulls":3},"직급",null,"부교수"]
[{"$nulls":3},"담당업무",null,"000업무"]
["5. 지원분야",null,null,"전문분야",{"$nulls":3},"세부분야1",{"$nulls":5},"세부분야2"]
["6. 연락처",null,null,"사무실",null,"000-0000-0000",{"$nulls":3},"팩스",null,"000-0000-0000"]
[{"$nulls":3},"휴대폰",null,"000-0000-0000",{"$nulls":3},"E-mail",null,"0000@0000.com"]
["7. 주소",null,null,"직장",null,"00시 00구 00대로 00아파트 00동00호",{"$nulls":7},"우편번호",null,"XXXXX"]
[{"$nulls":3},"자택",null,"00시 00구 00대로 00아파트 00동00호",{"$nulls":7},"우편번호",null,"XXXXX"]
[{"$nulls":3},"우편물배부처",{"$nulls":9},"활동지역"]
["8. 자격증 보유현황\n  *증빙서류 제출 必\n**최상위(기술사, 건축사) 자격부터 차례로 작성",null,null,"취득년월",{"$nulls":4},"자격증",{"$nulls":4},"인가, 관리기관"]
[{"$nulls":3},"YYYY-MM",{"$nulls":4},"0000기술사",{"$nulls":4},"한국산업인력공단"]
[]
[]
["9. 최종학력\n *학위증명서 제출 必",null,null,"학위구분",null,"학위취득년월",null,null,"출신학교",{"$nulls":4},"전공분야",{"$nulls":3},"졸업구분"]
[{"$nulls":5},"YYYY-MM",null,null,"00대학교",{"$nulls":4},"00학"]
["10. 경력현황\n *증빙서류 제출 必\n**경력기간 중복되지 않도록 작성, 중요도순으로(중요도 상->하) 차례로 작성",null,null,"시작년월",null,"종료년월",null,null,"기간(개월)",null,"회사명",null,null,"직위(급)",null,"담당업무"]
[{"$nulls":3},"YYYY-MM",null,"YYYY-MM",null,null,0,null,"000대학교",null,null,"부교수",null,"000업무"]
[]
[]
["11. 주요저서 및 논문\n *표지, 사진 등 증빙 제출 必 \n**논문 전체파일 첨부 불가",null,null,"작성년월",null,null,"출판사,관련기관",{"$nulls":3},"저서,논문명",{"$nulls":4},"저서,논문 주요내용"]
[{"$nulls":3},"YYYY-MM",null,null,"00학회",{"$nulls":3},"논문명",{"$nulls":4},"간단한 내용기술"]
[]
[]
[" "]
["상기 내용은 사실과 틀림이 없으며, 허위로 밝혀지는 경우\n관련 법령 및 규정에 따라 모든 책임을 질 것을 서약합니다."]
[]
[{"$nulls":11},"2024년",null,null,0,"월",0,"일"]
[{"$nulls":11},"작성자 :",null,null,"홍길동",null,null,"(서명)"]
[{"$nulls":12},"※ 자필서명은 [별첨3-1]로 대체함"]
[]
["가덕도신공항건설공단 이사장 귀하"]

{"sheet":"취합","index":1,"n_rows":2,"n_cols":27,"rows_kept":2,"hidden":true}
["번호","업무구분","직종","성명","소속","부서","현직위직급","분야","적격여부","생년월일","우편번호","근무지","학사","석사","박사","주요경력1","주요경력2","주요경력3","지역","자택주소","자택TEL","직장TEL2","FAX","Email","MOBILE","주민번호","자택우편"]
[{"$nulls":3},{"$f":"등록신청서!F5","v":"김가덕"},{"$f":"등록신청서!F8","v":"000대학교"},{"$f":"등록신청서!P8","v":0},{"$f":"등록신청서!L9","v":"부교수"},{"$f":"등록신청서!#REF!","v":{"$error":"#REF!"}},null,{"$f":"등록신청서!R5","v":0},{"$f":"등록신청서!#REF!","v":{"$error":"#REF!"}},{"$f":"등록신청서!#REF!","v":{"$error":"#REF!"}},{"$f":"CONCATENATE(등록신청서!I22,등록신청서!N22,등록신청서!#REF!)","v":{"$error":"#REF!"}},{"$f":"CONCATENATE(등록신청서!#REF!,등록신청서!#REF!,등록신청서!#REF!)","v":{"$error":"#REF!"}},{"$f":"CONCATENATE(등록신청서!#REF!,등록신청서!#REF!,등록신청서!#REF!)","v":{"$error":"#REF!"}},{"$f":"CONCATENATE(등록신청서!#REF!,등록신청서!R24)","v":{"$error":"#REF!"}},{"$f":"CONCATENATE(등록신청서!K25,등록신청서!R25)","v":""},{"$f":"CONCATENATE(등록신청서!#REF!,등록신청서!#REF!)","v":{"$error":"#REF!"}},{"$f":"LEFT(등록신청서!#REF!,5)","v":{"$error":"#REF!"}},{"$f":"등록신청서!#REF!","v":{"$error":"#REF!"}},{"$f":"등록신청서!F12","v":"000-0000-0000"},{"$f":"등록신청서!L12","v":"000-0000-0000"},{"$f":"등록신청서!R12","v":0},{"$f":"등록신청서!L13","v":"0000@0000.com"},{"$f":"등록신청서!F13","v":"000-0000-0000"},{"$f":"등록신청서!R5","v":0},{"$f":"등록신청서!#REF!","v":{"$error":"#REF!"}}]

{"sheet":"현황정리","index":2,"n_rows":2,"n_cols":41,"rows_kept":2}
["해당자격","전문분야","세부분야-1","세부분야-2","성명","생년월일","나이","성별","직업군","직장명","부서명","직위","직급","담당업무","활동지역","이메일","휴대폰","직장전화","직장주소","직장우편번호","자택주소","자택우편번호","자료배부처","자격증1","자격증2","자격증3","학위구분","출신학교","학위취득년월","전공분야","졸업구분","기간(회사1)","경력(회사1)","기간(회사2)","경력(회사2)","기간(회사3)","경력(회사3)","총경력","주요저서 및 논문1","주요저서 및 논문2","주요저서 및 논문3"]
[{"$f":"등록신청서!C4","v":0},{"$f":"등록신청서!F11","v":0},{"$f":"등록신청서!J11","v":0},{"$f":"등록신청서!P11","v":0},{"$f":"등록신청서!F5","v":"김가덕"},{"$f":"등록신청서!F6","v":"YYYY-MM-DD"},{"$f":"DATEDIF(F2, TODAY(), \"Y\")","v":{"$error":"#VALUE!"}},{"$f":"등록신청서!L6","v":"남/여"},{"$f":"등록신청서!D7","v":"공무원/공기업/연구원/교수/업계/기타"},{"$f":"등록신청서!F8","v":"000대학교"},{"$f":"등록신청서!L8","v":"00000학과"},{"$f":"등록신청서!F9","v":"00학과장"},{"$f":"등록신청서!L9","v":"부교수"},{"$f":"등록신청서!F10","v":"000업무"},{"$f":"등록신청서!P16","v":0},{"$f":"등록신청서!L13","v":"0000@0000.com"},{"$f":"등록신청서!F13","v":"000-0000-0000"},{"$f":"등록신청서!F12","v":"000-0000-0000"},{"$f":"등록신청서!F14","v":"00시 00구 00대로 00아파트 00동00호"},{"$f":"등록신청서!P14","v":"XXXXX"},{"$f":"등록신청서!F15","v":"00시 00구 00대로 00아파트 00동00호"},{"$f":"등록신청서!P15","v":"XXXXX"},{"$f":"등록신청서!F16","v":0},{"$f":"등록신청서!I18","v":"0000기술사"},{"$f":"등록신청서!I19","v":0},{"$f":"등록신청서!I20","v":0},{"$f":"등록신청서!D22","v":0},{"$f":"등록신청서!I22","v":"00대학교"},{"$f":"등록신청서!F22","v":"YYYY-MM"},{"$f":"등록신청서!N22","v":"00학"},{"$f":"등록신청서!R22","v":0},{"$f":"등록신청서!I24","v":0},{"$f":"등록신청서!K24","v":"000대학교"},{"$f":"등록신청서!I25","v":0},{"$f":"등록신청서!K25","v":0},{"$f":"등록신청서!I26","v":0},{"$f":"등록신청서!K26","v":0},{"$f":"SUM(등록신청서!I24:J26)","v":0},{"$f":"등록신청서!K28","v":"논문명"},{"$f":"등록신청서!K29","v":0},{"$f":"등록신청서!K30","v":0}]