{"text_format":"3","workbook":"xlsx","n_sheets":5,"sheets":["등록신청서","별지","시공용역요약표","raw data","요약표"],"not_rendered":{"defined_names":14},"read":"whole","date_system":"1900"}

{"sheet":"등록신청서","index":0,"n_rows":37,"n_cols":14,"rows_kept":37,"merged":[[0,0,0,14],[1,0,4,1],[1,2,1,3],[1,4,1,9],[1,10,1,11],[2,2,2,3],[2,4,2,9],[2,10,2,11],[2,12,2,14],[3,2,3,3],[3,4,3,5],[3,6,3,11],[3,13,3,14],[4,2,4,3],[4,4,4,5],[4,6,4,14],[5,0,9,1],[5,2,5,3],[5,4,5,9],[5,10,5,11],[5,12,5,14],[6,2,6,3],[6,4,6,9],[6,10,6,11],[6,12,6,14],[7,2,7,3],[7,4,7,9],[7,10,7,11],[8,2,8,3],[8,4,8,11],[8,13,8,14],[9,2,9,3],[9,4,9,9],[9,10,9,11],[9,12,9,14],[10,0,10,1],[10,2,10,14],[11,0,15,1],[11,2,11,3],[11,4,11,9],[11,10,11,11],[11,12,11,14],[12,4,12,9],[12,10,12,11],[12,12,12,14],[13,4,13,9],[13,10,13,11],[13,12,13,14],[14,4,14,9],[14,10,14,11],[14,12,14,14],[15,4,15,9],[15,10,15,11],[15,12,15,14],[16,0,21,1],[16,2,16,3],[16,4,16,9],[16,12,16,14],[17,4,17,9],[17,12,17,14],[18,4,18,9],[18,12,18,14],[19,4,19,9],[19,12,19,14],[20,4,20,9],[20,12,20,14],[21,2,21,6],[21,7,21,14],[22,0,25,1],[22,2,22,6],[22,7,22,10],[22,11,22,14],[23,7,23,10],[23,11,23,14],[24,7,24,10],[24,11,24,14],[25,7,25,10],[25,11,25,14],[26,0,31,1],[26,2,26,6],[26,7,26,10],[26,12,26,14],[27,7,27,10],[27,12,27,14],[28,7,28,10],[28,12,28,14],[29,7,29,10],[29,12,29,14],[30,7,30,10],[30,12,30,14],[31,3,31,4],[31,8,31,9],[31,13,31,14],[32,1,32,14],[33,7,33,8],[34,1,35,14],[36,0,36,14]]}
["서울주택도시공사 제10기 시공 및 용역평가 후보자 등록신청서"]
["사진",null,"1. 성명(한글)",{"$nulls":7},"2. 생년월일"]
[null,null,"3. 성별",{"$nulls":7},"4. 지원분야"]
[null,null,"5. 자택주소\n  (현거주지)",null,"주소",{"$nulls":7},"지역"]
[null,null,"6. 우리공사 위촉 위원회 현황",null,"위원회명"]
["7. 현 근무처\n및 연락처",null,"휴대폰",{"$nulls":7},"직장전화"]
[null,null,"E-mail",{"$nulls":7},"FAX"]
[null,null,"직장명",{"$nulls":7},"직위",null,null,"직급"]
[null,null,"직장주소",{"$nulls":9},"지역"]
[null,null,"부서명",{"$nulls":7},"담당업무"]
["8. 지원자격"]
["9. 자격증",null,"취득년월",null,"자격증명",{"$nulls":5},"자격등급",null,"인가•관리기관"]
[]
[]
[]
[]
["10. 학력",null,"취득년월",null,"출신학교",{"$nulls":5},"학위구분","졸업구분","전공분야"]
[]
[]
[]
[]
[null,null,"논문명"]
["11.외부공공기관   \n자문위원활동",null,"참여기간",{"$nulls":4},"기관명",{"$nulls":3},"위원회명"]
[{"$nulls":4},"~"]
[{"$nulls":4},"~"]
[{"$nulls":4},"~"]
["12. 주요경력사항",null,"근무기간(시작~종료)",{"$nulls":4},"근무처",{"$nulls":3},"직위","주요업무"]
[{"$nulls":4},"~"]
[{"$nulls":4},"~"]
[{"$nulls":4},"~"]
[{"$nulls":4},"~"]
[null,null,"합계\n(년,개월)","설계",{"$nulls":3},"시공",{"$nulls":3},"감리"]
[]
[{"$nulls":5},"2025년",{"$nulls":3},"월",null,"일"]
[null,"작성자:                     (인)"]
[]
["서울주택도시공사 사장 귀하"]

{"sheet":"별지","index":1,"n_rows":30,"n_cols":12,"rows_kept":30,"merged":[[0,0,0,12],[1,0,5,0],[1,1,1,2],[1,3,1,8],[1,9,1,10],[1,11,1,12],[2,3,2,8],[2,9,2,10],[2,11,2,12],[3,3,3,8],[3,9,3,10],[3,11,3,12],[4,3,4,8],[4,9,4,10],[4,11,4,12],[5,3,5,8],[5,9,5,10],[5,11,5,12],[6,0,13,0],[6,1,6,2],[6,3,6,8],[6,11,6,12],[7,3,7,8],[7,11,7,12],[8,3,8,8],[8,11,8,12],[9,3,9,8],[9,11,9,12],[10,3,10,8],[10,11,10,12],[11,1,11,5],[11,6,11,12],[12,1,12,5],[12,6,12,12],[13,1,13,5],[13,6,13,12],[14,0,20,0],[14,1,14,5],[14,6,14,8],[14,9,14,12],[15,6,15,8],[15,10,15,12],[16,6,16,8],[16,10,16,12],[17,6,17,8],[17,10,17,12],[18,6,18,8],[18,10,18,12],[19,6,19,8],[19,10,19,12],[20,6,20,8],[20,10,20,12],[21,0,29,0],[21,1,21,5],[21,6,21,8],[21,10,21,12],[22,6,22,8],[22,10,22,12],[23,6,23,8],[23,10,23,12],[24,6,24,8],[24,10,24,12],[25,6,25,8],[25,10,25,12],[26,6,26,8],[26,10,26,12],[27,6,27,8],[27,10,27,12],[28,6,28,8],[28,10,28,12],[29,6,29,8],[29,10,29,12]]}
["자격증, 학력, 외부공공기관 자문활동, 경력사항 (별지)"]
["9. 자격증","취득년월",null,"자격증명",{"$nulls":5},"자격등급",null,"인가•관리기관"]
[]
[]
[]
[]
["10. 학력","취득년월",null,"출신학교",{"$nulls":5},"학위구분","졸업구분","전공분야"]
[]
[]
[]
[]
[null,"논문명"]
[null,"논문명"]
[null,"논문명"]
["11. 외부공공기관    자문위원활동","참여기간",{"$nulls":4},"기관명",null,null,"위원회명"]
[{"$nulls":3},"~"]
[{"$nulls":3},"~"]
[{"$nulls":3},"~"]
[{"$nulls":3},"~"]
[{"$nulls":3},"~"]
[{"$nulls":3},"~"]
["12. 주요경력사항","근무기간(년,월)",{"$nulls":4},"근무처",null,null,"직위","주요업무"]
[{"$nulls":3},"~"]
[{"$nulls":3},"~"]
[{"$nulls":3},"~"]
[{"$nulls":3},"~"]
[{"$nulls":3},"~"]
[{"$nulls":3},"~"]
[{"$nulls":3},"~"]
[{"$nulls":3},"~"]

{"sheet":"시공용역요약표","index":2,"n_rows":2,"n_cols":87,"rows_kept":2,"hidden":true}
["지원분야","접수구분(신규,기존)","성명","출생년도","나이","성별","자택주소","자택지역","휴대폰","현근무처 직장전화","현근무처 E-mail","현근무처 FAX","직장명","직위","직급","현근무처 직장주소","근무처 지역","현근무처 부서명","현근무처 담당업무","지원자격","시의원여부","논문명","자격증\n취득년월1","자격증명\n1","자격등급\n1","인가/관리기관\n1","자격증\n취득년월2","자격증명\n2","자격등급\n2","인가/관리기관\n2","자격증\n취득년월3","자격증명\n3","자격등급\n3","인가/관리기관\n3","자격증\n취득년월4","자격증명\n4","자격등급\n4","인가/관리기관\n4","학위취득년월\n1","출신학교\n1","학위구분\n1","졸업구분\n1","전공분야\n1","학위취득년월\n2","출신학교\n2","학위구분\n2","졸업구분\n2","전공분야\n2","학위취득년월\n3","출신학교\n3","학위구분\n3","졸업구분\n3","전공분야\n3","학위취득년월\n4","출신학교\n4","학위구분\n4","졸업구분\n4","전공분야\n4","위원회기간 1","기관명\n1","위원회명\n1","위원회 기간 2","기관명\n2","위원회명\n2","위원회 기간 3","기관명\n3","위원회명\n3","근무시작기간\n1","근무종료기간\n1","근무처\n1","직위\n1","주요업무경력\n1","근무시작기간\n2","근무종료기간\n2","근무처\n2","직위\n2","주요업무경력\n2","근무시작기간\n3","근무종료기간\n3","근무처\n3","직위\n3","주요업무경력\n3","근무시작기간\n4","근무종료기간\n4","근무처\n4","직위\n4","주요업무경력\n4"]
[{"$f":"등록신청서!M3","v":0},null,{"$f":"등록신청서!E2","v":0},{"$f":"등록신청서!M2","v":0},null,{"$f":"등록신청서!E3","v":0},{"$f":"등록신청서!G4","v":0},{"$f":"등록신청서!N4","v":0},{"$f":"등록신청서!E6","v":0},{"$f":"등록신청서!M6","v":0},{"$f":"등록신청서!E7","v":0},{"$f":"등록신청서!M7","v":0},{"$f":"등록신청서!E8","v":0},{"$f":"등록신청서!M8","v":0},{"$f":"등록신청서!O8","v":0},{"$f":"등록신청서!E9","v":0},{"$f":"등록신청서!$N$9","v":0},{"$f":"등록신청서!E10","v":0},{"$f":"등록신청서!M10","v":0},{"$f":"등록신청서!C11","v":0},null,{"$f":"등록신청서!H22","v":0},{"$f":"등록신청서!C13&등록신청서!D13","v":""},{"$f":"등록신청서!E13","v":0},{"$f":"등록신청서!K13","v":0},{"$f":"등록신청서!M13","v":0},{"$f":"등록신청서!C14&등록신청서!D14","v":""},{"$f":"등록신청서!E14","v":0},{"$f":"등록신청서!K14","v":0},{"$f":"등록신청서!M14","v":0},{"$f":"등록신청서!C15&등록신청서!D15","v":""},{"$f":"등록신청서!E15","v":0},{"$f":"등록신청서!K15","v":0},{"$f":"등록신청서!M15","v":0},{"$f":"등록신청서!C16&등록신청서!D16","v":""},{"$f":"등록신청서!E16","v":0},{"$f":"등록신청서!K16","v":0},{"$f":"등록신청서!M16","v":0},{"$f":"등록신청서!C18&등록신청서!D18","v":""},{"$f":"등록신청서!E18","v":0},{"$f":"등록신청서!K18","v":0},{"$f":"등록신청서!L18","v":0},{"$f":"등록신청서!M18","v":0},{"$f":"등록신청서!C19&등록신청서!D19","v":""},{"$f":"등록신청서!E19","v":0},{"$f":"등록신청서!K19","v":0},{"$f":"등록신청서!L19","v":0},{"$f":"등록신청서!M19","v":0},{"$f":"등록신청서!C20&등록신청서!D20","v":""},{"$f":"등록신청서!E20","v":0},{"$f":"등록신청서!K20","v":0},{"$f":"등록신청서!L20","v":0},{"$f":"등록신청서!M20","v":0},{"$f":"등록신청서!C21&등록신청서!D21","v":""},{"$f":"등록신청서!E21","v":0},{"$f":"등록신청서!K21","v":0},{"$f":"등록신청서!L21","v":0},{"$f":"등록신청서!M21","v":0},{"$f":"등록신청서!C24&등록신청서!D24&등록신청서!E24&등록신청서!F24&등록신청서!G24","v":"~"},{"$f":"등록신청서!H24","v":0},{"$f":"등록신청서!L24","v":0},{"$f":"등록신청서!C25&등록신청서!D25&등록신청서!E25&등록신청서!F25&등록신청서!G25","v":"~"},{"$f":"등록신청서!H25","v":0},{"$f":"등록신청서!L25","v":0},{"$f":"등록신청서!C26&등록신청서!D26&등록신청서!E26&등록신청서!F26&등록신청서!G26","v":"~"},{"$f":"등록신청서!H26","v":0},{"$f":"등록신청서!L26","v":0},{"$f":"등록신청서!C28&등록신청서!D28","v":""},{"$f":"등록신청서!F28&등록신청서!G28","v":""},{"$f":"등록신청서!H28","v":0},{"$f":"등록신청서!L28","v":0},{"$f":"등록신청서!M28","v":0},{"$f":"등록신청서!C29&등록신청서!D29","v":""},{"$f":"등록신청서!F29&등록신청서!G29","v":""},{"$f":"등록신청서!H29","v":0},{"$f":"등록신청서!L29","v":0},{"$f":"등록신청서!M29","v":0},{"$f":"등록신청서!C30&등록신청서!D30","v":""},{"$f":"등록신청서!F30&등록신청서!G30","v":""},{"$f":"등록신청서!H30","v":0},{"$f":"등록신청서!L30","v":0},{"$f":"등록신청서!M30","v":0},{"$f":"등록신청서!C31&등록신청서!D31","v":""},{"$f":"등록신청서!F31&등록신청서!G31","v":""},{"$f":"등록신청서!H31","v":0},{"$f":"등록신청서!L31","v":0},{"$f":"등록신청서!M31","v":0}]

{"sheet":"raw data","index":3,"n_rows":77,"n_cols":13,"rows_kept":77,"hidden":true}
["연","월","일","성별","공종","지원분야","직종구분","학위구분","졸업구분","자격","지역","경력","지원자격"]
[1950,"01","01","남","건축","건축구조","공무원","학사(국내)","졸업","건축사","서울","01","1. 기술직렬 5급 이상 공무원"]
[1951,"02","02","여","토목","건축시공","공공기관(공기업 등)","석사(국내)","수료","기술사","경기","02","2. 공공기관(공기업 등) 2급 이상 기술직"]
[1952,"03","03",null,"기계","토질 및 기초","학계","박사(국내)","재학","기사","인천","03","3. 교수(조교수급 이상)로서 모집분야 경력자"]
[1953,"04","04",null,"소방","토목구조","업계","학사(국외)","휴학","산업기사","기타","04","4. 박사학위 취득 후 3년 이상 또는 석사학위 취득 후 9년 이상 실무경험 있는 사람"]
[1954,"05","05",null,"전기","토목시공","그외","석사(국외)","중퇴","기타",null,"05","5. 기술사 또는 건축사 자격 취득 후 3년 이상 실무경험 있는 사람"]
[1955,"06","06",null,"통신","기계설비",null,"기타",{"$nulls":3},"06","6. 기타"]
[1956,"07","07",null,"조경","조경",null,"박사(국외)",{"$nulls":3},"07"]
[1957,"08","08",null,"디자인","전기설비",null,"전문학사(국내)",{"$nulls":3},"08"]
[1958,"09","09",null,"VE",null,null,"고등학교",{"$nulls":3},"09"]
[1959,"10","10",null,"스마트건설기술",{"$nulls":6},"10"]
[1960,"11","11",null,"건설사업관리",{"$nulls":6},"11"]
[1961,"12","12",{"$nulls":8},"12"]
[1962,"0","13",{"$nulls":8},"13"]
[1963,null,"14",{"$nulls":8},"14"]
[1964,null,"15",{"$nulls":8},"15"]
[1965,null,"16",{"$nulls":8},"16"]
[1966,null,"17",{"$nulls":8},"17"]
[1967,null,"18",{"$nulls":8},"18"]
[1968,null,"19",{"$nulls":8},"19"]
[1969,null,"20",{"$nulls":8},"20"]
[1970,null,"21",{"$nulls":8},"21"]
[1971,null,"22",{"$nulls":8},"22"]
[1972,null,"23",{"$nulls":8},"23"]
[1973,null,"24",{"$nulls":8},"24"]
[1974,null,"25",{"$nulls":8},"25"]
[1975,null,"26",{"$nulls":8},"26"]
[1976,null,"27",{"$nulls":8},"27"]
[1977,null,"28",{"$nulls":8},"28"]
[1978,null,"29",{"$nulls":8},"29"]
[1979,null,"30",{"$nulls":8},"30"]
[1980,null,"31",{"$nulls":8},"31"]
[1981,{"$nulls":10},"32"]
[1982,{"$nulls":10},"33"]
[1983,{"$nulls":10},"34"]
[1984,{"$nulls":10},"35"]
[1985,{"$nulls":10},"36"]
[1986,{"$nulls":10},"37"]
[1987,{"$nulls":10},"38"]
[1988,{"$nulls":10},"39"]
[1989,{"$nulls":10},"40"]
[1990]
[1991]
[1992]
[1993]
[1994]
[1995]
[1996]
[1997]
[1998]
[1999]
[2000]
[2001]
[2002]
[2003]
[2004]
[2005]
[2006]
[2007]
[2008]
[2009]
[2010]
[2011]
[2012]
[2013]
[2014]
[2015]
[2016]
[2017]
[2018]
[2019]
[2020]
[2021]
[2022]
[2023]
[2024]
[2025]

{"sheet":"요약표","index":4,"n_rows":2,"n_cols":83,"rows_kept":2,"hidden":true}
["POOL 코드","기수","위원번호(숫자 5자리)","성명","성별","공종코드","전문분야코드","생년월일","자택주소","자택지역","현근무처 휴대폰","현근무처 직장전화","현근무처 E-mail","현근무처 FAX","현근무처 근무처코드","현근무처 직장주소","현근무처 부서명(소재지)","현근무처 담당업무","직종구분","시의원여부","논문명","자격증\n취득년월1","자격증명\n1","자격등급\n1","인가/관리기관\n1","자격증\n취득년월2","자격증명\n2","자격등급\n2","인가/관리기관\n2","자격증\n취득년월3","자격증명\n3","자격등급\n3","인가/관리기관\n3","자격증\n취득년월4","자격증명\n4","자격등급\n4","인가/관리기관\n4","학위취득년월\n1","출신학교\n1","학위구분\n1","졸업구분\n1","전공분야\n1","학위취득년월\n2","출신학교\n2","학위구분\n2","졸업구분\n2","전공분야\n2","학위취득년월\n3","출신학교\n3","학위구분\n3","졸업구분\n3","전공분야\n3","학위취득년월\n4","출신학교\n4","학위구분\n4","졸업구분\n4","전공분야\n4","위원회명(최근 3년)\n1","기관명\n1","위원회명(최근 3년)\n2","기관명\n2","위원회명(최근 3년)\n3","기관명\n3","근무시작기간\n1","근무종료기간\n1","근무처\n1","직위\n1","주요업무경력\n1","근무시작기간\n2","근무종료기간\n2","근무처\n2","직위\n2","주요업무경력\n2","근무시작기간\n3","근무종료기간\n3","근무처\n3","직위\n3","주요업무경력\n3","근무시작기간\n4","근무종료기간\n4","근무처\n4","직위\n4","주요업무경력\n4"]
[{"$nulls":3},{"$f":"등록신청서!#REF!","v":{"$error":"#REF!"}},{"$f":"등록신청서!M2","v":0},{"$f":"등록신청서!E3","v":0},{"$f":"등록신청서!M3","v":0},{"$f":"등록신청서!H2&등록신청서!I2&등록신청서!J2","v":""},{"$f":"등록신청서!#REF!","v":{"$error":"#REF!"}},{"$f":"등록신청서!M4","v":"지역"},{"$f":"등록신청서!E6","v":0},{"$f":"등록신청서!M6","v":0},{"$f":"등록신청서!E7","v":0},{"$f":"등록신청서!M7","v":0},null,{"$f":"등록신청서!E9","v":0},{"$f":"등록신청서!E10","v":0},{"$f":"등록신청서!M8","v":0},{"$f":"등록신청서!C11","v":0},null,{"$f":"등록신청서!H22","v":0},{"$f":"등록신청서!C13&등록신청서!D13","v":""},{"$f":"등록신청서!E13","v":0},{"$f":"등록신청서!K13","v":0},{"$f":"등록신청서!M13","v":0},{"$f":"등록신청서!C14&등록신청서!D14","v":""},{"$f":"등록신청서!E14","v":0},{"$f":"등록신청서!K14","v":0},{"$f":"등록신청서!M14","v":0},{"$f":"등록신청서!C15&등록신청서!D15","v":""},{"$f":"등록신청서!E15","v":0},{"$f":"등록신청서!K15","v":0},{"$f":"등록신청서!M15","v":0},{"$f":"등록신청서!C16&등록신청서!D16","v":""},{"$f":"등록신청서!E16","v":0},{"$f":"등록신청서!K16","v":0},{"$f":"등록신청서!M16","v":0},{"$f":"등록신청서!C18&등록신청서!D18","v":""},{"$f":"등록신청서!E18","v":0},{"$f":"등록신청서!K18","v":0},{"$f":"등록신청서!L18","v":0},{"$f":"등록신청서!M18","v":0},{"$f":"등록신청서!C19&등록신청서!D19","v":""},{"$f":"등록신청서!E19","v":0},{"$f":"등록신청서!K19","v":0},{"$f":"등록신청서!L19","v":0},{"$f":"등록신청서!M19","v":0},{"$f":"등록신청서!C20&등록신청서!D20","v":""},{"$f":"등록신청서!E20","v":0},{"$f":"등록신청서!K20","v":0},{"$f":"등록신청서!L20","v":0},{"$f":"등록신청서!M20","v":0},{"$f":"등록신청서!C21&등록신청서!D21","v":""},{"$f":"등록신청서!E21","v":0},{"$f":"등록신청서!K21","v":0},{"$f":"등록신청서!L21","v":0},{"$f":"등록신청서!M21","v":0},{"$f":"등록신청서!C24","v":0},{"$f":"등록신청서!L24","v":0},{"$f":"등록신청서!C25","v":0},{"$f":"등록신청서!L25","v":0},{"$f":"등록신청서!C26","v":0},{"$f":"등록신청서!L26","v":0},{"$f":"등록신청서!C28&등록신청서!D28","v":""},{"$f":"등록신청서!F28&등록신청서!G28","v":""},{"$f":"등록신청서!H28","v":0},{"$f":"등록신청서!L28","v":0},{"$f":"등록신청서!M28","v":0},{"$f":"등록신청서!C29&등록신청서!D29","v":""},{"$f":"등록신청서!F29&등록신청서!G29","v":""},{"$f":"등록신청서!H29","v":0},{"$f":"등록신청서!L29","v":0},{"$f":"등록신청서!M29","v":0},{"$f":"등록신청서!C30&등록신청서!D30","v":""},{"$f":"등록신청서!F30&등록신청서!G30","v":""},{"$f":"등록신청서!H30","v":0},{"$f":"등록신청서!L30","v":0},{"$f":"등록신청서!M30","v":0},{"$f":"등록신청서!C31&등록신청서!D31","v":""},{"$f":"등록신청서!F31&등록신청서!G31","v":""},{"$f":"등록신청서!H31","v":0},{"$f":"등록신청서!L31","v":0},{"$f":"등록신청서!M31","v":0}]